Workbook

Sheet Print
A1: ކޮމިޓީގެ ނަން އަދި ކޮމިޓީ ކޯޑު: | D1: =Haaziry!A1 -> ލާމަރުކަޒީ ކޮމިޓީ LM | N1: 2026 July | P1: For attendance period you want to generate, Copy Paste month written in "Haaziry" sheet "Column A" cell to this cell (N1)
A2: ޖުމްލަ ބައްދަލުވުން (ބޭއްވުނު އަދި މެންބަރުން ވަޑައިނުގެންނެވުމުގެ ސަބަބުން ކެންސަލްވި): | D2: =COUNTIFS(Haaziry!$A$2:$A$120,""&$N$1,Haaziry!$A$2:$A$120,"*") -> 1 | L2: ވަޑައިގަންނަވަން ޖެހޭ ބައްދަލުވުމުގެ ޖުމުލަ | M2: ވަޑައިގެންނެވި ޖުމުލަ (SC+O+P)
A3: ތާރީޙް: | D3: =N1 -> 2026 July
A4: ހޭދަވި ވަގުތު: | D4: =SUMIFS(Haaziry!$F$2:$F$120,Haaziry!$A$2:$A$120,""&$N$1) -> 0.00625
A5: ކޮމިޓީގަ ހިމެނިވަޑައިގަންނަވާ މެންބަރުން | C5: މެންބަރ ކޯޑް | D5: ޖުމްލަ | E5: ©+N | F5: S | G5: L | H5: O | I5: Ab | J5: Sc | K5: P
B6: {=INDEX(Haaziry!F$121:AH$121,ROWS(B$6:B6))} -> ހޭދަވި ވަގުތު | C6: {=INDEX(Haaziry!F$122:AH$122,ROWS(C6:C$6))} -> 1.3048611 | E6: {=SUM(COUNTIFS(Haaziry!$A$2:$A$122,""&$N$1,INDEX(Haaziry!$F$2:$AH$122,,MATCH($C6,Haaziry!$F$122:$AH$122,0)),{"© ","N"}))} -> 0 | F6: =COUNTIFS(Haaziry!$A$2:$A$122,""&$N$1,INDEX(Haaziry!$F$2:$AH$122,,MATCH($C6,Haaziry!$F$122:$AH$122,0)),"S") -> 0 | G6: =COUNTIFS(Haaziry!$A$2:$A$122,""&$N$1,INDEX(Haaziry!$F$2:$AH$122,,MATCH($C6,Haaziry!$F$122:$AH$122,0)),"L") -> 0 | H6: {=SUM(COUNTIFS(Haaziry!$A$2:$A$122,""&$N$1,INDEX(Haaziry!$F$2:$AH$122,,MATCH($C6,Haaziry!$F$122:$AH$122,0)),{"O","R"}))} -> 0 | I6: =COUNTIFS(Haaziry!$A$2:$A$122,""&$N$1,INDEX(Haaziry!$F$2:$AH$122,,MATCH($C6,Haaziry!$F$122:$AH$122,0)),"-") -> 0 | J6: =COUNTIFS(Haaziry!$A$2:$A$122,""&$N$1,INDEX(Haaziry!$F$2:$AH$122,,MATCH($C6,Haaziry!$F$122:$AH$122,0)),"@") -> 0 | K6: =COUNTIFS(Haaziry!$A$2:$A$122,""&$N$1,INDEX(Haaziry!$F$2:$AH$122,,MATCH($C6,Haaziry!$F$122:$AH$122,0)),"P") -> 0
A7: =_xlfn.AGGREGATE(3, 5, B$6:B6) -> 1 | B7: {=INDEX(Haaziry!F$121:AH$121,ROWS(B$6:B7))} -> ހެންވޭރު އުތުރު ދާއިރާގެ މެންބަރު އަޙްމަދު އައިފާން | C7: {=INDEX(Haaziry!F$122:AH$122,ROWS(C$6:C7))} -> 4 | D7: =$D$2 -> 1 | E7: {=SUM(COUNTIFS(Haaziry!$A$2:$A$122,""&$N$1,INDEX(Haaziry!$F$2:$AH$122,,MATCH($C7,Haaziry!$F$122:$AH$122,0)),{"© ","N"}))} -> 0 | F7: =COUNTIFS(Haaziry!$A$2:$A$122,""&$N$1,INDEX(Haaziry!$F$2:$AH$122,,MATCH($C7,Haaziry!$F$122:$AH$122,0)),"S") -> 0 | G7: =COUNTIFS(Haaziry!$A$2:$A$122,""&$N$1,INDEX(Haaziry!$F$2:$AH$122,,MATCH($C7,Haaziry!$F$122:$AH$122,0)),"L") -> 0 | H7: {=SUM(COUNTIFS(Haaziry!$A$2:$A$122,""&$N$1,INDEX(Haaziry!$F$2:$AH$122,,MATCH($C7,Haaziry!$F$122:$AH$122,0)),{"O","R"}))} -> 0 | I7: =COUNTIFS(Haaziry!$A$2:$A$122,""&$N$1,INDEX(Haaziry!$F$2:$AH$122,,MATCH($C7,Haaziry!$F$122:$AH$122,0)),"-") -> 0 | J7: =COUNTIFS(Haaziry!$A$2:$A$122,""&$N$1,INDEX(Haaziry!$F$2:$AH$122,,MATCH($C7,Haaziry!$F$122:$AH$122,0)),"@") -> 0 | K7: =COUNTIFS(Haaziry!$A$2:$A$122,""&$N$1,INDEX(Haaziry!$F$2:$AH$122,,MATCH($C7,Haaziry!$F$122:$AH$122,0)),"P") -> 1 | L7: =$D$2-$E7 -> 1 | M7: =$H7+$J7+$K7 -> 1 | P7: ހާޒިރީ ތައްޔާރުކުރެއްވުމުގައި ސަމާލުކަން ދެއްވަންވީ ކަންކަން:
A8: =_xlfn.AGGREGATE(3, 5, B$6:B7) -> 2 | B8: {=INDEX(Haaziry!F$121:AH$121,ROWS(B$6:B8))} -> މައްޗަންގޮޅި މެދު ދާއިރާގެ މެންބަރު އަޙްމަދު ޟަމީރު | C8: {=INDEX(Haaziry!F$122:AH$122,ROWS(C$6:C8))} -> 11 | D8: =$D$2 -> 1 | E8: {=SUM(COUNTIFS(Haaziry!$A$2:$A$122,""&$N$1,INDEX(Haaziry!$F$2:$AH$122,,MATCH($C8,Haaziry!$F$122:$AH$122,0)),{"© ","N"}))} -> 0 | F8: =COUNTIFS(Haaziry!$A$2:$A$122,""&$N$1,INDEX(Haaziry!$F$2:$AH$122,,MATCH($C8,Haaziry!$F$122:$AH$122,0)),"S") -> 0 | G8: =COUNTIFS(Haaziry!$A$2:$A$122,""&$N$1,INDEX(Haaziry!$F$2:$AH$122,,MATCH($C8,Haaziry!$F$122:$AH$122,0)),"L") -> 0 | H8: {=SUM(COUNTIFS(Haaziry!$A$2:$A$122,""&$N$1,INDEX(Haaziry!$F$2:$AH$122,,MATCH($C8,Haaziry!$F$122:$AH$122,0)),{"O","R"}))} -> 0 | I8: =COUNTIFS(Haaziry!$A$2:$A$122,""&$N$1,INDEX(Haaziry!$F$2:$AH$122,,MATCH($C8,Haaziry!$F$122:$AH$122,0)),"-") -> 0 | J8: =COUNTIFS(Haaziry!$A$2:$A$122,""&$N$1,INDEX(Haaziry!$F$2:$AH$122,,MATCH($C8,Haaziry!$F$122:$AH$122,0)),"@") -> 0 | K8: =COUNTIFS(Haaziry!$A$2:$A$122,""&$N$1,INDEX(Haaziry!$F$2:$AH$122,,MATCH($C8,Haaziry!$F$122:$AH$122,0)),"P") -> 1 | L8: =$D$2-$E8 -> 1 | M8: =$H8+$J8+$K8 -> 1 | P8: 1. ދާއިރާތަކުގެ ތަރުތީބުން މެންބަރުންގެ ނަންތައް އެތުރުން.
A9: =_xlfn.AGGREGATE(3, 5, B$6:B8) -> 3 | B9: {=INDEX(Haaziry!F$121:AH$121,ROWS(B$6:B9))} -> އުނގޫފާރު ދާއިރާގެ މެންބަރު އިބްރާހީމް ޝިފާޒް | C9: {=INDEX(Haaziry!F$122:AH$122,ROWS(C$6:C9))} -> 38 | D9: =$D$2 -> 1 | E9: {=SUM(COUNTIFS(Haaziry!$A$2:$A$122,""&$N$1,INDEX(Haaziry!$F$2:$AH$122,,MATCH($C9,Haaziry!$F$122:$AH$122,0)),{"© ","N"}))} -> 0 | F9: =COUNTIFS(Haaziry!$A$2:$A$122,""&$N$1,INDEX(Haaziry!$F$2:$AH$122,,MATCH($C9,Haaziry!$F$122:$AH$122,0)),"S") -> 0 | G9: =COUNTIFS(Haaziry!$A$2:$A$122,""&$N$1,INDEX(Haaziry!$F$2:$AH$122,,MATCH($C9,Haaziry!$F$122:$AH$122,0)),"L") -> 0 | H9: {=SUM(COUNTIFS(Haaziry!$A$2:$A$122,""&$N$1,INDEX(Haaziry!$F$2:$AH$122,,MATCH($C9,Haaziry!$F$122:$AH$122,0)),{"O","R"}))} -> 0 | I9: =COUNTIFS(Haaziry!$A$2:$A$122,""&$N$1,INDEX(Haaziry!$F$2:$AH$122,,MATCH($C9,Haaziry!$F$122:$AH$122,0)),"-") -> 0 | J9: =COUNTIFS(Haaziry!$A$2:$A$122,""&$N$1,INDEX(Haaziry!$F$2:$AH$122,,MATCH($C9,Haaziry!$F$122:$AH$122,0)),"@") -> 0 | K9: =COUNTIFS(Haaziry!$A$2:$A$122,""&$N$1,INDEX(Haaziry!$F$2:$AH$122,,MATCH($C9,Haaziry!$F$122:$AH$122,0)),"P") -> 1 | L9: =$D$2-$E9 -> 1 | M9: =$H9+$J9+$K9 -> 1 | P9: 2. ނަން ދެފޮޅުވަތަށްވުރެ ދިގުނުވާގޮތަށް ފޮންޓް ސައިޒް ބޮޑުކުރުން (ދެ ފޮޅުވަތަށް ނަން އަރާނަމަ، އެ ސެލްއަކަށް ނަން ފެތޭ އެންމެ ބޮޑެއްކޮށް ފޮންޓް ސައިޒް ބެހެއްޓުން އަދި ހުރިހާ ނަމެއްވެސް އެއް ފޮންޓް ސައިޒެއްގައި ބެހެއްޓުން.)
A10: =_xlfn.AGGREGATE(3, 5, B$6:B9) -> 4 | B10: {=INDEX(Haaziry!F$121:AH$121,ROWS(B$6:B10))} -> ނައިފަރު ދާއިރާގެ މެންބަރު ޔާސީން ޢަބްދުﷲ | C10: {=INDEX(Haaziry!F$122:AH$122,ROWS(C$6:C10))} -> 47 | D10: =$D$2 -> 1 | E10: {=SUM(COUNTIFS(Haaziry!$A$2:$A$122,""&$N$1,INDEX(Haaziry!$F$2:$AH$122,,MATCH($C10,Haaziry!$F$122:$AH$122,0)),{"© ","N"}))} -> 0 | F10: =COUNTIFS(Haaziry!$A$2:$A$122,""&$N$1,INDEX(Haaziry!$F$2:$AH$122,,MATCH($C10,Haaziry!$F$122:$AH$122,0)),"S") -> 0 | G10: =COUNTIFS(Haaziry!$A$2:$A$122,""&$N$1,INDEX(Haaziry!$F$2:$AH$122,,MATCH($C10,Haaziry!$F$122:$AH$122,0)),"L") -> 0 | H10: {=SUM(COUNTIFS(Haaziry!$A$2:$A$122,""&$N$1,INDEX(Haaziry!$F$2:$AH$122,,MATCH($C10,Haaziry!$F$122:$AH$122,0)),{"O","R"}))} -> 0 | I10: =COUNTIFS(Haaziry!$A$2:$A$122,""&$N$1,INDEX(Haaziry!$F$2:$AH$122,,MATCH($C10,Haaziry!$F$122:$AH$122,0)),"-") -> 0 | J10: =COUNTIFS(Haaziry!$A$2:$A$122,""&$N$1,INDEX(Haaziry!$F$2:$AH$122,,MATCH($C10,Haaziry!$F$122:$AH$122,0)),"@") -> 0 | K10: =COUNTIFS(Haaziry!$A$2:$A$122,""&$N$1,INDEX(Haaziry!$F$2:$AH$122,,MATCH($C10,Haaziry!$F$122:$AH$122,0)),"P") -> 1 | L10: =$D$2-$E10 -> 1 | M10: =$H10+$J10+$K10 -> 1 | P10: 3. ހުރިހާ ރޯތަކެއްގެ "ރޯ ހައިޓް" އެއްވަރުކުރުން.
A11: =_xlfn.AGGREGATE(3, 5, B$6:B10) -> 5 | B11: {=INDEX(Haaziry!F$121:AH$121,ROWS(B$6:B11))} -> ކެޔޮދޫ ދާއިރާގެ މެންބަރު މުޙައްމަދު ނިއުޝާދު | C11: {=INDEX(Haaziry!F$122:AH$122,ROWS(C$6:C11))} -> 59 | D11: =$D$2 -> 1 | E11: {=SUM(COUNTIFS(Haaziry!$A$2:$A$122,""&$N$1,INDEX(Haaziry!$F$2:$AH$122,,MATCH($C11,Haaziry!$F$122:$AH$122,0)),{"© ","N"}))} -> 0 | F11: =COUNTIFS(Haaziry!$A$2:$A$122,""&$N$1,INDEX(Haaziry!$F$2:$AH$122,,MATCH($C11,Haaziry!$F$122:$AH$122,0)),"S") -> 0 | G11: =COUNTIFS(Haaziry!$A$2:$A$122,""&$N$1,INDEX(Haaziry!$F$2:$AH$122,,MATCH($C11,Haaziry!$F$122:$AH$122,0)),"L") -> 0 | H11: {=SUM(COUNTIFS(Haaziry!$A$2:$A$122,""&$N$1,INDEX(Haaziry!$F$2:$AH$122,,MATCH($C11,Haaziry!$F$122:$AH$122,0)),{"O","R"}))} -> 0 | I11: =COUNTIFS(Haaziry!$A$2:$A$122,""&$N$1,INDEX(Haaziry!$F$2:$AH$122,,MATCH($C11,Haaziry!$F$122:$AH$122,0)),"-") -> 0 | J11: =COUNTIFS(Haaziry!$A$2:$A$122,""&$N$1,INDEX(Haaziry!$F$2:$AH$122,,MATCH($C11,Haaziry!$F$122:$AH$122,0)),"@") -> 0 | K11: =COUNTIFS(Haaziry!$A$2:$A$122,""&$N$1,INDEX(Haaziry!$F$2:$AH$122,,MATCH($C11,Haaziry!$F$122:$AH$122,0)),"P") -> 1 | L11: =$D$2-$E11 -> 1 | M11: =$H11+$J11+$K11 -> 1 | P11: 4. "ވަޑައިގަންނަވަންޖެހޭ ބައްދަލުވުމުގެ ޖުމްލަ" އަދި "ވަޑައިގެންނެވި ޖުމްލަ" މި ދެކޮލަމްގެ ޖުމްލަ ވަކިވަކިން އެނގޭނޭ ގޮތަށް މިދެކޮލަމްގެ ތިރިއަށް ފޯމިއުލާއެއް އިންސަރޓް ކޮށް، އެޖުމްލަ ފެންނާނޭގޮތަށް ހާޒިރީ ހެދުން. (ނޯޓް:މިޑޮކިއުމަންޓްގައި އެވަނީ ދެންނެވުނު ފޯމިއުލާ އިންސަރޓް ކުރެވިފައެވެ.)
A12: =_xlfn.AGGREGATE(3, 5, B$6:B11) -> 6 | B12: {=INDEX(Haaziry!F$121:AH$121,ROWS(B$6:B12))} -> ބިލެތްދޫ ދާއިރާގެ މެންބަރު އަޙްމަދު އަސްލަމް | C12: {=INDEX(Haaziry!F$122:AH$122,ROWS(C$6:C12))} -> 62 | D12: =$D$2 -> 1 | E12: {=SUM(COUNTIFS(Haaziry!$A$2:$A$122,""&$N$1,INDEX(Haaziry!$F$2:$AH$122,,MATCH($C12,Haaziry!$F$122:$AH$122,0)),{"© ","N"}))} -> 0 | F12: =COUNTIFS(Haaziry!$A$2:$A$122,""&$N$1,INDEX(Haaziry!$F$2:$AH$122,,MATCH($C12,Haaziry!$F$122:$AH$122,0)),"S") -> 1 | G12: =COUNTIFS(Haaziry!$A$2:$A$122,""&$N$1,INDEX(Haaziry!$F$2:$AH$122,,MATCH($C12,Haaziry!$F$122:$AH$122,0)),"L") -> 0 | H12: {=SUM(COUNTIFS(Haaziry!$A$2:$A$122,""&$N$1,INDEX(Haaziry!$F$2:$AH$122,,MATCH($C12,Haaziry!$F$122:$AH$122,0)),{"O","R"}))} -> 0 | I12: =COUNTIFS(Haaziry!$A$2:$A$122,""&$N$1,INDEX(Haaziry!$F$2:$AH$122,,MATCH($C12,Haaziry!$F$122:$AH$122,0)),"-") -> 0 | J12: =COUNTIFS(Haaziry!$A$2:$A$122,""&$N$1,INDEX(Haaziry!$F$2:$AH$122,,MATCH($C12,Haaziry!$F$122:$AH$122,0)),"@") -> 0 | K12: =COUNTIFS(Haaziry!$A$2:$A$122,""&$N$1,INDEX(Haaziry!$F$2:$AH$122,,MATCH($C12,Haaziry!$F$122:$AH$122,0)),"P") -> 0 | L12: =$D$2-$E12 -> 1 | M12: =$H12+$J12+$K12 -> 0 | P12: 5. ހާޒިރީގެ މުއްދަތަކީ މުޅި މަސް އެއްކޮށް (މިސާލަކަށް 1 ޖަނަވަރީ 2026 އިން 31 ޖަނަވަރީ 2026 ގެ ނިޔަލަށް) ކަމުގައިވާނަމަ، ތާރީޚު ގޮޅީގައި ލިޔާނީ މަހާއި އަހަރު (ޖަނަވަރީ 2026). ނަމަވެސް ހާޒިރީގެ މުއްދަތަކީ ވަކި މުއްދަތެއްނަމަ (މިސާލަކަށް 3 ޖަނަވަރީ 2026 އިން 10 ޖަނަވަރީ 2026 ގެ ނިޔަލަށްކަމަށްވާނަމަ)، ތާރީޚު ގޮޅީގައި އެ މުއްދަތު ސާފުކޮށް ބަޔާންކުރުން (3 ޖަނަވަރީ 2026 އިން 10 ޖަނަވަރީ 2026 އަށް).
A13: =_xlfn.AGGREGATE(3, 5, B$6:B12) -> 7 | B13: {=INDEX(Haaziry!F$121:AH$121,ROWS(B$6:B13))} -> ނިލަންދޫ ދާއިރާގެ މެންބަރު ފާޠިމަތު ސަޢުދާ | C13: {=INDEX(Haaziry!F$122:AH$122,ROWS(C$6:C13))} -> 63 | D13: =$D$2 -> 1 | E13: {=SUM(COUNTIFS(Haaziry!$A$2:$A$122,""&$N$1,INDEX(Haaziry!$F$2:$AH$122,,MATCH($C13,Haaziry!$F$122:$AH$122,0)),{"© ","N"}))} -> 0 | F13: =COUNTIFS(Haaziry!$A$2:$A$122,""&$N$1,INDEX(Haaziry!$F$2:$AH$122,,MATCH($C13,Haaziry!$F$122:$AH$122,0)),"S") -> 0 | G13: =COUNTIFS(Haaziry!$A$2:$A$122,""&$N$1,INDEX(Haaziry!$F$2:$AH$122,,MATCH($C13,Haaziry!$F$122:$AH$122,0)),"L") -> 0 | H13: {=SUM(COUNTIFS(Haaziry!$A$2:$A$122,""&$N$1,INDEX(Haaziry!$F$2:$AH$122,,MATCH($C13,Haaziry!$F$122:$AH$122,0)),{"O","R"}))} -> 0 | I13: =COUNTIFS(Haaziry!$A$2:$A$122,""&$N$1,INDEX(Haaziry!$F$2:$AH$122,,MATCH($C13,Haaziry!$F$122:$AH$122,0)),"-") -> 0 | J13: =COUNTIFS(Haaziry!$A$2:$A$122,""&$N$1,INDEX(Haaziry!$F$2:$AH$122,,MATCH($C13,Haaziry!$F$122:$AH$122,0)),"@") -> 0 | K13: =COUNTIFS(Haaziry!$A$2:$A$122,""&$N$1,INDEX(Haaziry!$F$2:$AH$122,,MATCH($C13,Haaziry!$F$122:$AH$122,0)),"P") -> 1 | L13: =$D$2-$E13 -> 1 | M13: =$H13+$J13+$K13 -> 1
A14: =_xlfn.AGGREGATE(3, 5, B$6:B13) -> 8 | B14: {=INDEX(Haaziry!F$121:AH$121,ROWS(B$6:B14))} -> ވިލުފުށި ދާއިރާގެ މެންބަރު ޙަސަން ވަޙީދު | C14: {=INDEX(Haaziry!F$122:AH$122,ROWS(C$6:C14))} -> 66 | D14: =$D$2 -> 1 | E14: {=SUM(COUNTIFS(Haaziry!$A$2:$A$122,""&$N$1,INDEX(Haaziry!$F$2:$AH$122,,MATCH($C14,Haaziry!$F$122:$AH$122,0)),{"© ","N"}))} -> 0 | F14: =COUNTIFS(Haaziry!$A$2:$A$122,""&$N$1,INDEX(Haaziry!$F$2:$AH$122,,MATCH($C14,Haaziry!$F$122:$AH$122,0)),"S") -> 0 | G14: =COUNTIFS(Haaziry!$A$2:$A$122,""&$N$1,INDEX(Haaziry!$F$2:$AH$122,,MATCH($C14,Haaziry!$F$122:$AH$122,0)),"L") -> 0 | H14: {=SUM(COUNTIFS(Haaziry!$A$2:$A$122,""&$N$1,INDEX(Haaziry!$F$2:$AH$122,,MATCH($C14,Haaziry!$F$122:$AH$122,0)),{"O","R"}))} -> 0 | I14: =COUNTIFS(Haaziry!$A$2:$A$122,""&$N$1,INDEX(Haaziry!$F$2:$AH$122,,MATCH($C14,Haaziry!$F$122:$AH$122,0)),"-") -> 0 | J14: =COUNTIFS(Haaziry!$A$2:$A$122,""&$N$1,INDEX(Haaziry!$F$2:$AH$122,,MATCH($C14,Haaziry!$F$122:$AH$122,0)),"@") -> 0 | K14: =COUNTIFS(Haaziry!$A$2:$A$122,""&$N$1,INDEX(Haaziry!$F$2:$AH$122,,MATCH($C14,Haaziry!$F$122:$AH$122,0)),"P") -> 1 | L14: =$D$2-$E14 -> 1 | M14: =$H14+$J14+$K14 -> 1 | P14: ނޯޓު: ކޮމިޓީ އެލަވަންސް ދިނުމުގެ އުސޫލު - ޝެއަރޕޮއިންޓްގެ ލެޖިސްލޭޓިވް ޗެނަލްގައި ހިމެނޭ ޑޮކިއުމަންޓްސް > ޖެނެރަލް > އިމްޕޯޓަންޓް ޑޮކިއުމަންޓްސް > 2011.08.24_ކޮމިޓީ އެލަވަންސް އުސޫލު އެމް.އެލް
A15: =_xlfn.AGGREGATE(3, 5, B$6:B14) -> 9 | B15: {=INDEX(Haaziry!F$121:AH$121,ROWS(B$6:B15))} -> ގެމަނަފުށި ދާއިރާގެ މެންބަރު އަސަދުﷲ ޝިހާބް | C15: {=INDEX(Haaziry!F$122:AH$122,ROWS(C$6:C15))} -> 76 | D15: =$D$2 -> 1 | E15: {=SUM(COUNTIFS(Haaziry!$A$2:$A$122,""&$N$1,INDEX(Haaziry!$F$2:$AH$122,,MATCH($C15,Haaziry!$F$122:$AH$122,0)),{"© ","N"}))} -> 1 | F15: =COUNTIFS(Haaziry!$A$2:$A$122,""&$N$1,INDEX(Haaziry!$F$2:$AH$122,,MATCH($C15,Haaziry!$F$122:$AH$122,0)),"S") -> 0 | G15: =COUNTIFS(Haaziry!$A$2:$A$122,""&$N$1,INDEX(Haaziry!$F$2:$AH$122,,MATCH($C15,Haaziry!$F$122:$AH$122,0)),"L") -> 0 | H15: {=SUM(COUNTIFS(Haaziry!$A$2:$A$122,""&$N$1,INDEX(Haaziry!$F$2:$AH$122,,MATCH($C15,Haaziry!$F$122:$AH$122,0)),{"O","R"}))} -> 0 | I15: =COUNTIFS(Haaziry!$A$2:$A$122,""&$N$1,INDEX(Haaziry!$F$2:$AH$122,,MATCH($C15,Haaziry!$F$122:$AH$122,0)),"-") -> 0 | J15: =COUNTIFS(Haaziry!$A$2:$A$122,""&$N$1,INDEX(Haaziry!$F$2:$AH$122,,MATCH($C15,Haaziry!$F$122:$AH$122,0)),"@") -> 0 | K15: =COUNTIFS(Haaziry!$A$2:$A$122,""&$N$1,INDEX(Haaziry!$F$2:$AH$122,,MATCH($C15,Haaziry!$F$122:$AH$122,0)),"P") -> 0 | L15: =$D$2-$E15 -> 0 | M15: =$H15+$J15+$K15 -> 0
A16: =_xlfn.AGGREGATE(3, 5, B$6:B15) -> 9 | B16: {=INDEX(Haaziry!F$121:AH$121,ROWS(B$6:B16))} -> ކޮލަމާފުށި ދާއިރާގެ މެންބަރު އިބްރާހީމްދީދީ | C16: {=INDEX(Haaziry!F$122:AH$122,ROWS(C$6:C16))} -> 77 | D16: =$D$2 -> 1 | E16: {=SUM(COUNTIFS(Haaziry!$A$2:$A$122,""&$N$1,INDEX(Haaziry!$F$2:$AH$122,,MATCH($C16,Haaziry!$F$122:$AH$122,0)),{"© ","N"}))} -> 0 | F16: =COUNTIFS(Haaziry!$A$2:$A$122,""&$N$1,INDEX(Haaziry!$F$2:$AH$122,,MATCH($C16,Haaziry!$F$122:$AH$122,0)),"S") -> 0 | G16: =COUNTIFS(Haaziry!$A$2:$A$122,""&$N$1,INDEX(Haaziry!$F$2:$AH$122,,MATCH($C16,Haaziry!$F$122:$AH$122,0)),"L") -> 0 | H16: {=SUM(COUNTIFS(Haaziry!$A$2:$A$122,""&$N$1,INDEX(Haaziry!$F$2:$AH$122,,MATCH($C16,Haaziry!$F$122:$AH$122,0)),{"O","R"}))} -> 0 | I16: =COUNTIFS(Haaziry!$A$2:$A$122,""&$N$1,INDEX(Haaziry!$F$2:$AH$122,,MATCH($C16,Haaziry!$F$122:$AH$122,0)),"-") -> 0 | J16: =COUNTIFS(Haaziry!$A$2:$A$122,""&$N$1,INDEX(Haaziry!$F$2:$AH$122,,MATCH($C16,Haaziry!$F$122:$AH$122,0)),"@") -> 0 | K16: =COUNTIFS(Haaziry!$A$2:$A$122,""&$N$1,INDEX(Haaziry!$F$2:$AH$122,,MATCH($C16,Haaziry!$F$122:$AH$122,0)),"P") -> 1 | L16: =$D$2-$E16 -> 1 | M16: =$H16+$J16+$K16 -> 1 | AB16: 2024 May
A17: =_xlfn.AGGREGATE(3, 5, B$6:B16) -> 10 | B17: {=INDEX(Haaziry!F$121:AH$121,ROWS(B$6:B17))} -> ހިތަދޫ އުތުރު ދާއިރާގެ މެންބަރު ޢަބްދުﷲ ޞާދިޤު | C17: {=INDEX(Haaziry!F$122:AH$122,ROWS(C$6:C17))} -> 90 | D17: =$D$2 -> 1 | E17: {=SUM(COUNTIFS(Haaziry!$A$2:$A$122,""&$N$1,INDEX(Haaziry!$F$2:$AH$122,,MATCH($C17,Haaziry!$F$122:$AH$122,0)),{"© ","N"}))} -> 0 | F17: =COUNTIFS(Haaziry!$A$2:$A$122,""&$N$1,INDEX(Haaziry!$F$2:$AH$122,,MATCH($C17,Haaziry!$F$122:$AH$122,0)),"S") -> 0 | G17: =COUNTIFS(Haaziry!$A$2:$A$122,""&$N$1,INDEX(Haaziry!$F$2:$AH$122,,MATCH($C17,Haaziry!$F$122:$AH$122,0)),"L") -> 0 | H17: {=SUM(COUNTIFS(Haaziry!$A$2:$A$122,""&$N$1,INDEX(Haaziry!$F$2:$AH$122,,MATCH($C17,Haaziry!$F$122:$AH$122,0)),{"O","R"}))} -> 0 | I17: =COUNTIFS(Haaziry!$A$2:$A$122,""&$N$1,INDEX(Haaziry!$F$2:$AH$122,,MATCH($C17,Haaziry!$F$122:$AH$122,0)),"-") -> 0 | J17: =COUNTIFS(Haaziry!$A$2:$A$122,""&$N$1,INDEX(Haaziry!$F$2:$AH$122,,MATCH($C17,Haaziry!$F$122:$AH$122,0)),"@") -> 0 | K17: =COUNTIFS(Haaziry!$A$2:$A$122,""&$N$1,INDEX(Haaziry!$F$2:$AH$122,,MATCH($C17,Haaziry!$F$122:$AH$122,0)),"P") -> 1 | L17: =$D$2-$E17 -> 1 | M17: =$H17+$J17+$K17 -> 1
A18: =_xlfn.AGGREGATE(3, 5, B$6:B17) -> 11 | B18: {=INDEX(Haaziry!F$121:AH$121,ROWS(B$6:B18))} -> އައްޑޫމީދޫ ދާއިރާގެ މެންބަރު ޢަބްދުއްރަޙްމާން | C18: {=INDEX(Haaziry!F$122:AH$122,ROWS(C$6:C18))} -> 93 | D18: =$D$2 -> 1 | E18: {=SUM(COUNTIFS(Haaziry!$A$2:$A$122,""&$N$1,INDEX(Haaziry!$F$2:$AH$122,,MATCH($C18,Haaziry!$F$122:$AH$122,0)),{"© ","N"}))} -> 0 | F18: =COUNTIFS(Haaziry!$A$2:$A$122,""&$N$1,INDEX(Haaziry!$F$2:$AH$122,,MATCH($C18,Haaziry!$F$122:$AH$122,0)),"S") -> 0 | G18: =COUNTIFS(Haaziry!$A$2:$A$122,""&$N$1,INDEX(Haaziry!$F$2:$AH$122,,MATCH($C18,Haaziry!$F$122:$AH$122,0)),"L") -> 0 | H18: {=SUM(COUNTIFS(Haaziry!$A$2:$A$122,""&$N$1,INDEX(Haaziry!$F$2:$AH$122,,MATCH($C18,Haaziry!$F$122:$AH$122,0)),{"O","R"}))} -> 0 | I18: =COUNTIFS(Haaziry!$A$2:$A$122,""&$N$1,INDEX(Haaziry!$F$2:$AH$122,,MATCH($C18,Haaziry!$F$122:$AH$122,0)),"-") -> 0 | J18: =COUNTIFS(Haaziry!$A$2:$A$122,""&$N$1,INDEX(Haaziry!$F$2:$AH$122,,MATCH($C18,Haaziry!$F$122:$AH$122,0)),"@") -> 0 | K18: =COUNTIFS(Haaziry!$A$2:$A$122,""&$N$1,INDEX(Haaziry!$F$2:$AH$122,,MATCH($C18,Haaziry!$F$122:$AH$122,0)),"P") -> 1 | L18: =$D$2-$E18 -> 1 | M18: =$H18+$J18+$K18 -> 1
A19: =_xlfn.AGGREGATE(3, 5, B$6:B18) -> 12 | B19: {=INDEX(Haaziry!F$121:AH$121,ROWS(B$6:B19))} -> ކެންދޫ ދާއިރާގެ މެންބަރު މަޢުރޫފް ޛާކިރު | C19: {=INDEX(Haaziry!F$122:AH$122,ROWS(C$6:C19))} -> 44 | E19: {=SUM(COUNTIFS(Haaziry!$A$2:$A$122,""&$N$1,INDEX(Haaziry!$F$2:$AH$122,,MATCH($C19,Haaziry!$F$122:$AH$122,0)),{"© ","N"}))} -> 1 | F19: =COUNTIFS(Haaziry!$A$2:$A$122,""&$N$1,INDEX(Haaziry!$F$2:$AH$122,,MATCH($C19,Haaziry!$F$122:$AH$122,0)),"S") -> 0 | G19: =COUNTIFS(Haaziry!$A$2:$A$122,""&$N$1,INDEX(Haaziry!$F$2:$AH$122,,MATCH($C19,Haaziry!$F$122:$AH$122,0)),"L") -> 0 | H19: {=SUM(COUNTIFS(Haaziry!$A$2:$A$122,""&$N$1,INDEX(Haaziry!$F$2:$AH$122,,MATCH($C19,Haaziry!$F$122:$AH$122,0)),{"O","R"}))} -> 0 | I19: =COUNTIFS(Haaziry!$A$2:$A$122,""&$N$1,INDEX(Haaziry!$F$2:$AH$122,,MATCH($C19,Haaziry!$F$122:$AH$122,0)),"-") -> 0 | J19: =COUNTIFS(Haaziry!$A$2:$A$122,""&$N$1,INDEX(Haaziry!$F$2:$AH$122,,MATCH($C19,Haaziry!$F$122:$AH$122,0)),"@") -> 0 | K19: =COUNTIFS(Haaziry!$A$2:$A$122,""&$N$1,INDEX(Haaziry!$F$2:$AH$122,,MATCH($C19,Haaziry!$F$122:$AH$122,0)),"P") -> 0 | Z19: m
A20: =_xlfn.AGGREGATE(3, 5, B$6:B19) -> 12 | B20: {=INDEX(Haaziry!F$121:AH$121,ROWS(B$6:B20))} -> 0 | C20: {=INDEX(Haaziry!F$122:AH$122,ROWS(C$6:C20))} -> 0 | E20: {=SUM(COUNTIFS(Haaziry!$A$2:$A$122,""&$N$1,INDEX(Haaziry!$F$2:$AH$122,,MATCH($C20,Haaziry!$F$122:$AH$122,0)),{"© ","N"}))} -> #N/A | F20: =COUNTIFS(Haaziry!$A$2:$A$122,""&$N$1,INDEX(Haaziry!$F$2:$AH$122,,MATCH($C20,Haaziry!$F$122:$AH$122,0)),"S") -> #N/A | G20: =COUNTIFS(Haaziry!$A$2:$A$122,""&$N$1,INDEX(Haaziry!$F$2:$AH$122,,MATCH($C20,Haaziry!$F$122:$AH$122,0)),"L") -> #N/A | H20: {=SUM(COUNTIFS(Haaziry!$A$2:$A$122,""&$N$1,INDEX(Haaziry!$F$2:$AH$122,,MATCH($C20,Haaziry!$F$122:$AH$122,0)),{"O","R"}))} -> #N/A | I20: =COUNTIFS(Haaziry!$A$2:$A$122,""&$N$1,INDEX(Haaziry!$F$2:$AH$122,,MATCH($C20,Haaziry!$F$122:$AH$122,0)),"-") -> #N/A | J20: =COUNTIFS(Haaziry!$A$2:$A$122,""&$N$1,INDEX(Haaziry!$F$2:$AH$122,,MATCH($C20,Haaziry!$F$122:$AH$122,0)),"@") -> #N/A | K20: =COUNTIFS(Haaziry!$A$2:$A$122,""&$N$1,INDEX(Haaziry!$F$2:$AH$122,,MATCH($C20,Haaziry!$F$122:$AH$122,0)),"P") -> #N/A
A21: =_xlfn.AGGREGATE(3, 5, B$6:B20) -> 12 | B21: {=INDEX(Haaziry!F$121:AH$121,ROWS(B$6:B21))} -> 0 | C21: {=INDEX(Haaziry!F$122:AH$122,ROWS(C$6:C21))} -> 0 | E21: {=SUM(COUNTIFS(Haaziry!$A$2:$A$122,""&$N$1,INDEX(Haaziry!$F$2:$AH$122,,MATCH($C21,Haaziry!$F$122:$AH$122,0)),{"© ","N"}))} -> #N/A | F21: =COUNTIFS(Haaziry!$A$2:$A$122,""&$N$1,INDEX(Haaziry!$F$2:$AH$122,,MATCH($C21,Haaziry!$F$122:$AH$122,0)),"S") -> #N/A | G21: =COUNTIFS(Haaziry!$A$2:$A$122,""&$N$1,INDEX(Haaziry!$F$2:$AH$122,,MATCH($C21,Haaziry!$F$122:$AH$122,0)),"L") -> #N/A | H21: {=SUM(COUNTIFS(Haaziry!$A$2:$A$122,""&$N$1,INDEX(Haaziry!$F$2:$AH$122,,MATCH($C21,Haaziry!$F$122:$AH$122,0)),{"O","R"}))} -> #N/A | I21: =COUNTIFS(Haaziry!$A$2:$A$122,""&$N$1,INDEX(Haaziry!$F$2:$AH$122,,MATCH($C21,Haaziry!$F$122:$AH$122,0)),"-") -> #N/A | J21: =COUNTIFS(Haaziry!$A$2:$A$122,""&$N$1,INDEX(Haaziry!$F$2:$AH$122,,MATCH($C21,Haaziry!$F$122:$AH$122,0)),"@") -> #N/A | K21: =COUNTIFS(Haaziry!$A$2:$A$122,""&$N$1,INDEX(Haaziry!$F$2:$AH$122,,MATCH($C21,Haaziry!$F$122:$AH$122,0)),"P") -> #N/A
A22: =_xlfn.AGGREGATE(3, 5, B$6:B21) -> 12 | B22: {=INDEX(Haaziry!F$121:AH$121,ROWS(B$6:B22))} -> 0 | C22: {=INDEX(Haaziry!F$122:AH$122,ROWS(C$6:C22))} -> 0 | E22: {=SUM(COUNTIFS(Haaziry!$A$2:$A$122,""&$N$1,INDEX(Haaziry!$F$2:$AH$122,,MATCH($C22,Haaziry!$F$122:$AH$122,0)),{"© ","N"}))} -> #N/A | F22: =COUNTIFS(Haaziry!$A$2:$A$122,""&$N$1,INDEX(Haaziry!$F$2:$AH$122,,MATCH($C22,Haaziry!$F$122:$AH$122,0)),"S") -> #N/A | G22: =COUNTIFS(Haaziry!$A$2:$A$122,""&$N$1,INDEX(Haaziry!$F$2:$AH$122,,MATCH($C22,Haaziry!$F$122:$AH$122,0)),"L") -> #N/A | H22: {=SUM(COUNTIFS(Haaziry!$A$2:$A$122,""&$N$1,INDEX(Haaziry!$F$2:$AH$122,,MATCH($C22,Haaziry!$F$122:$AH$122,0)),{"O","R"}))} -> #N/A | I22: =COUNTIFS(Haaziry!$A$2:$A$122,""&$N$1,INDEX(Haaziry!$F$2:$AH$122,,MATCH($C22,Haaziry!$F$122:$AH$122,0)),"-") -> #N/A | J22: =COUNTIFS(Haaziry!$A$2:$A$122,""&$N$1,INDEX(Haaziry!$F$2:$AH$122,,MATCH($C22,Haaziry!$F$122:$AH$122,0)),"@") -> #N/A | K22: =COUNTIFS(Haaziry!$A$2:$A$122,""&$N$1,INDEX(Haaziry!$F$2:$AH$122,,MATCH($C22,Haaziry!$F$122:$AH$122,0)),"P") -> #N/A
A23: =_xlfn.AGGREGATE(3, 5, B$6:B22) -> 12 | B23: {=INDEX(Haaziry!F$121:AH$121,ROWS(B$6:B23))} -> 0 | C23: {=INDEX(Haaziry!F$122:AH$122,ROWS(C$6:C23))} -> 0 | E23: {=SUM(COUNTIFS(Haaziry!$A$2:$A$122,""&$N$1,INDEX(Haaziry!$F$2:$AH$122,,MATCH($C23,Haaziry!$F$122:$AH$122,0)),{"© ","N"}))} -> #N/A | F23: =COUNTIFS(Haaziry!$A$2:$A$122,""&$N$1,INDEX(Haaziry!$F$2:$AH$122,,MATCH($C23,Haaziry!$F$122:$AH$122,0)),"S") -> #N/A | G23: =COUNTIFS(Haaziry!$A$2:$A$122,""&$N$1,INDEX(Haaziry!$F$2:$AH$122,,MATCH($C23,Haaziry!$F$122:$AH$122,0)),"L") -> #N/A | H23: {=SUM(COUNTIFS(Haaziry!$A$2:$A$122,""&$N$1,INDEX(Haaziry!$F$2:$AH$122,,MATCH($C23,Haaziry!$F$122:$AH$122,0)),{"O","R"}))} -> #N/A | I23: =COUNTIFS(Haaziry!$A$2:$A$122,""&$N$1,INDEX(Haaziry!$F$2:$AH$122,,MATCH($C23,Haaziry!$F$122:$AH$122,0)),"-") -> #N/A | J23: =COUNTIFS(Haaziry!$A$2:$A$122,""&$N$1,INDEX(Haaziry!$F$2:$AH$122,,MATCH($C23,Haaziry!$F$122:$AH$122,0)),"@") -> #N/A | K23: =COUNTIFS(Haaziry!$A$2:$A$122,""&$N$1,INDEX(Haaziry!$F$2:$AH$122,,MATCH($C23,Haaziry!$F$122:$AH$122,0)),"P") -> #N/A
A24: =_xlfn.AGGREGATE(3, 5, B$6:B23) -> 12 | B24: {=INDEX(Haaziry!F$121:AH$121,ROWS(B$6:B24))} -> 0 | C24: {=INDEX(Haaziry!F$122:AH$122,ROWS(C$6:C24))} -> 0 | E24: {=SUM(COUNTIFS(Haaziry!$A$2:$A$122,""&$N$1,INDEX(Haaziry!$F$2:$AH$122,,MATCH($C24,Haaziry!$F$122:$AH$122,0)),{"© ","N"}))} -> #N/A | F24: =COUNTIFS(Haaziry!$A$2:$A$122,""&$N$1,INDEX(Haaziry!$F$2:$AH$122,,MATCH($C24,Haaziry!$F$122:$AH$122,0)),"S") -> #N/A | G24: =COUNTIFS(Haaziry!$A$2:$A$122,""&$N$1,INDEX(Haaziry!$F$2:$AH$122,,MATCH($C24,Haaziry!$F$122:$AH$122,0)),"L") -> #N/A | H24: {=SUM(COUNTIFS(Haaziry!$A$2:$A$122,""&$N$1,INDEX(Haaziry!$F$2:$AH$122,,MATCH($C24,Haaziry!$F$122:$AH$122,0)),{"O","R"}))} -> #N/A | I24: =COUNTIFS(Haaziry!$A$2:$A$122,""&$N$1,INDEX(Haaziry!$F$2:$AH$122,,MATCH($C24,Haaziry!$F$122:$AH$122,0)),"-") -> #N/A | J24: =COUNTIFS(Haaziry!$A$2:$A$122,""&$N$1,INDEX(Haaziry!$F$2:$AH$122,,MATCH($C24,Haaziry!$F$122:$AH$122,0)),"@") -> #N/A | K24: =COUNTIFS(Haaziry!$A$2:$A$122,""&$N$1,INDEX(Haaziry!$F$2:$AH$122,,MATCH($C24,Haaziry!$F$122:$AH$122,0)),"P") -> #N/A
A25: =_xlfn.AGGREGATE(3, 5, B$6:B24) -> 12 | B25: {=INDEX(Haaziry!F$121:AH$121,ROWS(B$6:B25))} -> 0 | C25: {=INDEX(Haaziry!F$122:AH$122,ROWS(C$6:C25))} -> 0 | E25: {=SUM(COUNTIFS(Haaziry!$A$2:$A$122,""&$N$1,INDEX(Haaziry!$F$2:$AH$122,,MATCH($C25,Haaziry!$F$122:$AH$122,0)),{"© ","N"}))} -> #N/A | F25: =COUNTIFS(Haaziry!$A$2:$A$122,""&$N$1,INDEX(Haaziry!$F$2:$AH$122,,MATCH($C25,Haaziry!$F$122:$AH$122,0)),"S") -> #N/A | G25: =COUNTIFS(Haaziry!$A$2:$A$122,""&$N$1,INDEX(Haaziry!$F$2:$AH$122,,MATCH($C25,Haaziry!$F$122:$AH$122,0)),"L") -> #N/A | H25: {=SUM(COUNTIFS(Haaziry!$A$2:$A$122,""&$N$1,INDEX(Haaziry!$F$2:$AH$122,,MATCH($C25,Haaziry!$F$122:$AH$122,0)),{"O","R"}))} -> #N/A | I25: =COUNTIFS(Haaziry!$A$2:$A$122,""&$N$1,INDEX(Haaziry!$F$2:$AH$122,,MATCH($C25,Haaziry!$F$122:$AH$122,0)),"-") -> #N/A | J25: =COUNTIFS(Haaziry!$A$2:$A$122,""&$N$1,INDEX(Haaziry!$F$2:$AH$122,,MATCH($C25,Haaziry!$F$122:$AH$122,0)),"@") -> #N/A | K25: =COUNTIFS(Haaziry!$A$2:$A$122,""&$N$1,INDEX(Haaziry!$F$2:$AH$122,,MATCH($C25,Haaziry!$F$122:$AH$122,0)),"P") -> #N/A
A26: =_xlfn.AGGREGATE(3, 5, B$6:B25) -> 12 | B26: {=INDEX(Haaziry!F$121:AH$121,ROWS(B$6:B26))} -> 0 | C26: {=INDEX(Haaziry!F$122:AH$122,ROWS(C$6:C26))} -> 0 | E26: {=SUM(COUNTIFS(Haaziry!$A$2:$A$122,""&$N$1,INDEX(Haaziry!$F$2:$AH$122,,MATCH($C26,Haaziry!$F$122:$AH$122,0)),{"© ","N"}))} -> #N/A | F26: =COUNTIFS(Haaziry!$A$2:$A$122,""&$N$1,INDEX(Haaziry!$F$2:$AH$122,,MATCH($C26,Haaziry!$F$122:$AH$122,0)),"S") -> #N/A | G26: =COUNTIFS(Haaziry!$A$2:$A$122,""&$N$1,INDEX(Haaziry!$F$2:$AH$122,,MATCH($C26,Haaziry!$F$122:$AH$122,0)),"L") -> #N/A | H26: {=SUM(COUNTIFS(Haaziry!$A$2:$A$122,""&$N$1,INDEX(Haaziry!$F$2:$AH$122,,MATCH($C26,Haaziry!$F$122:$AH$122,0)),{"O","R"}))} -> #N/A | I26: =COUNTIFS(Haaziry!$A$2:$A$122,""&$N$1,INDEX(Haaziry!$F$2:$AH$122,,MATCH($C26,Haaziry!$F$122:$AH$122,0)),"-") -> #N/A | J26: =COUNTIFS(Haaziry!$A$2:$A$122,""&$N$1,INDEX(Haaziry!$F$2:$AH$122,,MATCH($C26,Haaziry!$F$122:$AH$122,0)),"@") -> #N/A | K26: =COUNTIFS(Haaziry!$A$2:$A$122,""&$N$1,INDEX(Haaziry!$F$2:$AH$122,,MATCH($C26,Haaziry!$F$122:$AH$122,0)),"P") -> #N/A
A27: =_xlfn.AGGREGATE(3, 5, B$6:B26) -> 12 | B27: {=INDEX(Haaziry!F$121:AH$121,ROWS(B$6:B27))} -> 0 | C27: {=INDEX(Haaziry!F$122:AH$122,ROWS(C$6:C27))} -> 0 | E27: {=SUM(COUNTIFS(Haaziry!$A$2:$A$122,""&$N$1,INDEX(Haaziry!$F$2:$AH$122,,MATCH($C27,Haaziry!$F$122:$AH$122,0)),{"© ","N"}))} -> #N/A | F27: =COUNTIFS(Haaziry!$A$2:$A$122,""&$N$1,INDEX(Haaziry!$F$2:$AH$122,,MATCH($C27,Haaziry!$F$122:$AH$122,0)),"S") -> #N/A | G27: =COUNTIFS(Haaziry!$A$2:$A$122,""&$N$1,INDEX(Haaziry!$F$2:$AH$122,,MATCH($C27,Haaziry!$F$122:$AH$122,0)),"L") -> #N/A | H27: {=SUM(COUNTIFS(Haaziry!$A$2:$A$122,""&$N$1,INDEX(Haaziry!$F$2:$AH$122,,MATCH($C27,Haaziry!$F$122:$AH$122,0)),{"O","R"}))} -> #N/A | I27: =COUNTIFS(Haaziry!$A$2:$A$122,""&$N$1,INDEX(Haaziry!$F$2:$AH$122,,MATCH($C27,Haaziry!$F$122:$AH$122,0)),"-") -> #N/A | J27: =COUNTIFS(Haaziry!$A$2:$A$122,""&$N$1,INDEX(Haaziry!$F$2:$AH$122,,MATCH($C27,Haaziry!$F$122:$AH$122,0)),"@") -> #N/A | K27: =COUNTIFS(Haaziry!$A$2:$A$122,""&$N$1,INDEX(Haaziry!$F$2:$AH$122,,MATCH($C27,Haaziry!$F$122:$AH$122,0)),"P") -> #N/A
A28: =_xlfn.AGGREGATE(3, 5, B$6:B27) -> 12 | B28: {=INDEX(Haaziry!F$121:AH$121,ROWS(B$6:B28))} -> 0 | C28: {=INDEX(Haaziry!F$122:AH$122,ROWS(C$6:C28))} -> 0 | E28: {=SUM(COUNTIFS(Haaziry!$A$2:$A$122,""&$N$1,INDEX(Haaziry!$F$2:$AH$122,,MATCH($C28,Haaziry!$F$122:$AH$122,0)),{"© ","N"}))} -> #N/A | F28: =COUNTIFS(Haaziry!$A$2:$A$122,""&$N$1,INDEX(Haaziry!$F$2:$AH$122,,MATCH($C28,Haaziry!$F$122:$AH$122,0)),"S") -> #N/A | G28: =COUNTIFS(Haaziry!$A$2:$A$122,""&$N$1,INDEX(Haaziry!$F$2:$AH$122,,MATCH($C28,Haaziry!$F$122:$AH$122,0)),"L") -> #N/A | H28: {=SUM(COUNTIFS(Haaziry!$A$2:$A$122,""&$N$1,INDEX(Haaziry!$F$2:$AH$122,,MATCH($C28,Haaziry!$F$122:$AH$122,0)),{"O","R"}))} -> #N/A | I28: =COUNTIFS(Haaziry!$A$2:$A$122,""&$N$1,INDEX(Haaziry!$F$2:$AH$122,,MATCH($C28,Haaziry!$F$122:$AH$122,0)),"-") -> #N/A | J28: =COUNTIFS(Haaziry!$A$2:$A$122,""&$N$1,INDEX(Haaziry!$F$2:$AH$122,,MATCH($C28,Haaziry!$F$122:$AH$122,0)),"@") -> #N/A | K28: =COUNTIFS(Haaziry!$A$2:$A$122,""&$N$1,INDEX(Haaziry!$F$2:$AH$122,,MATCH($C28,Haaziry!$F$122:$AH$122,0)),"P") -> #N/A
A29: =_xlfn.AGGREGATE(3, 5, B$6:B28) -> 12 | B29: {=INDEX(Haaziry!F$121:AH$121,ROWS(B$6:B29))} -> 0 | C29: {=INDEX(Haaziry!F$122:AH$122,ROWS(C$6:C29))} -> 0 | E29: {=SUM(COUNTIFS(Haaziry!$A$2:$A$122,""&$N$1,INDEX(Haaziry!$F$2:$AH$122,,MATCH($C29,Haaziry!$F$122:$AH$122,0)),{"© ","N"}))} -> #N/A | F29: =COUNTIFS(Haaziry!$A$2:$A$122,""&$N$1,INDEX(Haaziry!$F$2:$AH$122,,MATCH($C29,Haaziry!$F$122:$AH$122,0)),"S") -> #N/A | G29: =COUNTIFS(Haaziry!$A$2:$A$122,""&$N$1,INDEX(Haaziry!$F$2:$AH$122,,MATCH($C29,Haaziry!$F$122:$AH$122,0)),"L") -> #N/A | H29: {=SUM(COUNTIFS(Haaziry!$A$2:$A$122,""&$N$1,INDEX(Haaziry!$F$2:$AH$122,,MATCH($C29,Haaziry!$F$122:$AH$122,0)),{"O","R"}))} -> #N/A | I29: =COUNTIFS(Haaziry!$A$2:$A$122,""&$N$1,INDEX(Haaziry!$F$2:$AH$122,,MATCH($C29,Haaziry!$F$122:$AH$122,0)),"-") -> #N/A | J29: =COUNTIFS(Haaziry!$A$2:$A$122,""&$N$1,INDEX(Haaziry!$F$2:$AH$122,,MATCH($C29,Haaziry!$F$122:$AH$122,0)),"@") -> #N/A | K29: =COUNTIFS(Haaziry!$A$2:$A$122,""&$N$1,INDEX(Haaziry!$F$2:$AH$122,,MATCH($C29,Haaziry!$F$122:$AH$122,0)),"P") -> #N/A
A30: =_xlfn.AGGREGATE(3, 5, B$6:B29) -> 12 | B30: {=INDEX(Haaziry!F$121:AH$121,ROWS(B$6:B30))} -> 0 | C30: {=INDEX(Haaziry!F$122:AH$122,ROWS(C$6:C30))} -> 0 | E30: {=SUM(COUNTIFS(Haaziry!$A$2:$A$122,""&$N$1,INDEX(Haaziry!$F$2:$AH$122,,MATCH($C30,Haaziry!$F$122:$AH$122,0)),{"© ","N"}))} -> #N/A | F30: =COUNTIFS(Haaziry!$A$2:$A$122,""&$N$1,INDEX(Haaziry!$F$2:$AH$122,,MATCH($C30,Haaziry!$F$122:$AH$122,0)),"S") -> #N/A | G30: =COUNTIFS(Haaziry!$A$2:$A$122,""&$N$1,INDEX(Haaziry!$F$2:$AH$122,,MATCH($C30,Haaziry!$F$122:$AH$122,0)),"L") -> #N/A | H30: {=SUM(COUNTIFS(Haaziry!$A$2:$A$122,""&$N$1,INDEX(Haaziry!$F$2:$AH$122,,MATCH($C30,Haaziry!$F$122:$AH$122,0)),{"O","R"}))} -> #N/A | I30: =COUNTIFS(Haaziry!$A$2:$A$122,""&$N$1,INDEX(Haaziry!$F$2:$AH$122,,MATCH($C30,Haaziry!$F$122:$AH$122,0)),"-") -> #N/A | J30: =COUNTIFS(Haaziry!$A$2:$A$122,""&$N$1,INDEX(Haaziry!$F$2:$AH$122,,MATCH($C30,Haaziry!$F$122:$AH$122,0)),"@") -> #N/A | K30: =COUNTIFS(Haaziry!$A$2:$A$122,""&$N$1,INDEX(Haaziry!$F$2:$AH$122,,MATCH($C30,Haaziry!$F$122:$AH$122,0)),"P") -> #N/A
A31: =_xlfn.AGGREGATE(3, 5, B$6:B30) -> 12 | B31: {=INDEX(Haaziry!F$121:AH$121,ROWS(B$6:B31))} -> 0 | C31: {=INDEX(Haaziry!F$122:AH$122,ROWS(C$6:C31))} -> 0 | E31: {=SUM(COUNTIFS(Haaziry!$A$2:$A$122,""&$N$1,INDEX(Haaziry!$F$2:$AH$122,,MATCH($C31,Haaziry!$F$122:$AH$122,0)),{"© ","N"}))} -> #N/A | F31: =COUNTIFS(Haaziry!$A$2:$A$122,""&$N$1,INDEX(Haaziry!$F$2:$AH$122,,MATCH($C31,Haaziry!$F$122:$AH$122,0)),"S") -> #N/A | G31: =COUNTIFS(Haaziry!$A$2:$A$122,""&$N$1,INDEX(Haaziry!$F$2:$AH$122,,MATCH($C31,Haaziry!$F$122:$AH$122,0)),"L") -> #N/A | H31: {=SUM(COUNTIFS(Haaziry!$A$2:$A$122,""&$N$1,INDEX(Haaziry!$F$2:$AH$122,,MATCH($C31,Haaziry!$F$122:$AH$122,0)),{"O","R"}))} -> #N/A | I31: =COUNTIFS(Haaziry!$A$2:$A$122,""&$N$1,INDEX(Haaziry!$F$2:$AH$122,,MATCH($C31,Haaziry!$F$122:$AH$122,0)),"-") -> #N/A | J31: =COUNTIFS(Haaziry!$A$2:$A$122,""&$N$1,INDEX(Haaziry!$F$2:$AH$122,,MATCH($C31,Haaziry!$F$122:$AH$122,0)),"@") -> #N/A | K31: =COUNTIFS(Haaziry!$A$2:$A$122,""&$N$1,INDEX(Haaziry!$F$2:$AH$122,,MATCH($C31,Haaziry!$F$122:$AH$122,0)),"P") -> #N/A
... A33: =_xlfn.AGGREGATE(3, 5, B$6:B32) -> 12 | B33: {=INDEX(Haaziry!F$121:AH$121,ROWS(B$6:B33))} -> 0 | C33: {=INDEX(Haaziry!F$122:AH$122,ROWS(C$6:C33))} -> 0 | E33: {=SUM(COUNTIFS(Haaziry!$A$2:$A$122,""&$N$1,INDEX(Haaziry!$F$2:$AH$122,,MATCH($C33,Haaziry!$F$122:$AH$122,0)),{"© ","N"}))} -> #N/A | F33: =COUNTIFS(Haaziry!$A$2:$A$122,""&$N$1,INDEX(Haaziry!$F$2:$AH$122,,MATCH($C33,Haaziry!$F$122:$AH$122,0)),"S") -> #N/A | G33: =COUNTIFS(Haaziry!$A$2:$A$122,""&$N$1,INDEX(Haaziry!$F$2:$AH$122,,MATCH($C33,Haaziry!$F$122:$AH$122,0)),"L") -> #N/A | H33: {=SUM(COUNTIFS(Haaziry!$A$2:$A$122,""&$N$1,INDEX(Haaziry!$F$2:$AH$122,,MATCH($C33,Haaziry!$F$122:$AH$122,0)),{"O","R"}))} -> #N/A | I33: =COUNTIFS(Haaziry!$A$2:$A$122,""&$N$1,INDEX(Haaziry!$F$2:$AH$122,,MATCH($C33,Haaziry!$F$122:$AH$122,0)),"-") -> #N/A | J33: =COUNTIFS(Haaziry!$A$2:$A$122,""&$N$1,INDEX(Haaziry!$F$2:$AH$122,,MATCH($C33,Haaziry!$F$122:$AH$122,0)),"@") -> #N/A | K33: =COUNTIFS(Haaziry!$A$2:$A$122,""&$N$1,INDEX(Haaziry!$F$2:$AH$122,,MATCH($C33,Haaziry!$F$122:$AH$122,0)),"P") -> #N/A
B34: ޖުމްލަ | L34: =_xlfn.AGGREGATE(9, 5, L6:L33) -> 11 | M34: =_xlfn.AGGREGATE(9, 5, M6:M33) -> 10 | P34: Don’t change the formula, hidden rows will be excluded from total count
A35: ތައްޔާރުކުރީ: މިލްޙާ ޖަމާލް | G35: ޗެކް ކުރީ: އަސްމާ ސަލީމް
A36: ތާރީޚް: 02 އޯގަސްޓް 2026 | G36: ތާރީޚް: 02 އޯގަސްޓް 2026
A37: ސޮއި: | G37: ސޮއި:

Sheet Haaziry
A1: ލާމަރުކަޒީ ކޮމިޓީ LM | B1: 20 ވަނަ މަޖިލީހުގައި ބޭއްވުނު ލާމަރުކަޒީ ކޮމިޓީގެ ބައްދަލުވުންތަކަށް އެ ކޮމިޓީގެ މެންބަރުން ވަޑައިގެންނެވި ނިސްބަތް އެނގިވަޑައިގަންނަވާނެ ހާޒިރީގެ ތަފްޞީލު
D2: 2029
D3: 20 ވަނަ މަޖިލީހުގެ ދައުރު ނިމުން (27 މޭ 2029)
F4: 0
F5: 0
F6: 0
F7: 0
F8: 0
D9: 2029 ވަނަ އަހަރުގެ ފުރަތަމަ ދައުރު ނިމުން (15 މޭ 2029)
F10: 0
F11: 0
F12: 0
D13: 2029 ވަނަ އަހަރުގެ ފުރަތަމަ ދައުރު ފެށުން (1 ފެބްރުވަރީ 2029)
E14: 2029
D15: 2028 ވަނަ އަހަރުގެ ތިންވަނަ ދައުރު ނިމުން (30 ނޮވެންބަރު 2028)
F16: 0
F17: 0
F18: 0
D19: 2028 ވަނަ އަހަރުގެ ތިންވަނަ ދައުރު ފެށުން (1 އޮކްޓޫބަރ 2028)
D20: 2028 ވަނަ އަހަރުގެ ދެވަނަ ދައުރު ނިމުން (15 އޮގަސްޓު 2028)
F21: 0
F22: 0
D23: 2028 ވަނަ އަހަރުގެ ދެވަނަ ދައުރު ފެށުން (1 ޖޫން 2028)
D24: 2028 ވަނަ އަހަރުގެ ފުރަތަމަ ދައުރު ނިމުން (15 މޭ 2028)
F25: 0
F26: 0
F27: 0
D28: 2028 ވަނަ އަހަރުގެ ފުރަތަމަ ދައުރު ފެށުން (1 ފެބްރުވަރީ 2028)
E29: 2028
D30: 2027 ވަނަ އަހަރުގެ ތިންވަނަ ދައުރު ނިމުން (30 ނޮވެންބަރު 2027)
F31: 0
F32: 0
F33: 0
D34: 2027 ވަނަ އަހަރުގެ ތިންވަނަ ދައުރު ފެށުން (1 އޮކްޓޫބަރ 2027)
D35: 2027 ވަނަ އަހަރުގެ ދެވަނަ ދައުރު ނިމުން (15 އޮގަސްޓު 2027)
F36: 0
F37: 0
D38: 2027 ވަނަ އަހަރުގެ ދެވަނަ ދައުރު ފެށުން (1 ޖޫން 2027)
D39: 2027 ވަނަ އަހަރުގެ ފުރަތަމަ ދައުރު ނިމުން (15 މޭ 2027)
F40: 0
...

Sheet List of Comitys n Abbreviation
C1: ކޮމިޓީ ތަކުގެ ޙާޒިރީ ރިޕޯޓް -ޖޫން 2024
A2: ކޯޑް | B2: އެޓޭޗްކުރެވިފައި | C2: ތަފްޞީލް
A3: AM | C3: ޢާންމު ކޮމިޓީ
A4: PT | C4: ޕެޓިޝަން ކޮމިޓީ
A5: IS | C5: އިމްތިޔާޒު އަދި ސުލޫކު ކޮމިޓީ
A6: GV | C6: ގަވާއިދު ކޮމިޓީ
A7: ML | C7: މާލިއްޔަތު ކޮމިޓީ
A8: IQ | C8: އިޤްތިޞާދީ ކޮމިޓީ
A9: IJ | C9: އިޖްތިމާޢީ ކޮމިޓީ
A10: SKH | C10: ސަލާމަތީ ޚިދުމަތްތަކާބެހޭ ކޮމިޓީ (ޤާނޫނުއަސާސީގެ 241 ވަނަ މާއްދާގެ ދަށުން އެކުލަވާލެވުނު)
A11: MM | C11: މިނިވަން މުޢައްސަސާތަކުގެ ކޮމިޓީ
A12: SM | C12: ސަރުކާރުގެ މަސްޢޫލިއްޔަތު އަދާކުރާ މިންވަރު ބަލާ ކޮމިޓީ
A13: GT | C13: ޤައުމީ ތަރައްޤީއާއި ތަރިކައިގެ ކޮމިޓީ
A14: KG | C14: ޚާރިޖީ ގުޅުންތަކުގެ ކޮމިޓީ
... A21: GD | C21: ގެދޮރުވެރިކަމުގެ ކޮމިޓީ
A22: VC-1
A23: VC-2
A25: S | B25: ސަލާމް
A26: L | B26: ޗުއްޓީ
A27: O | B27: ރަސްމީ
A28: Ab | B28: ޙާޒިރުނުވޭ
A29: Sc | B29: އެހެން ކޮމިޓީއެއްގައި
A30: P | B30: ޙާޒިރުވި
A31: ©+N | B31: ވަޑައިގަންނަވަން ނުޖެހޭ ޖުމުލަ ބައްދަލުވުން

Sheet MP List n Code
A1: މެންބަރ-ކޯޑް | B1: މެންބަރުންގެ ނަން
A2: 1 | B2: ހުޅުމާލެ އުތުރު ދާއިރާގެ މެންބަރު ޙުސައިން ޝަރީފު
A3: 2 | B3: ހުޅުމާލެ މެދު ދާއިރާގެ މެންބަރު ޢަބްދުﷲ ޝަޛީމް
A4: 3 | B4: ހުޅުމާލެ ދެކުނު ދާއިރާގެ މެންބަރު ޑރ. އަޙްމަދު ޝަމްހީދު
A5: 4 | B5: ހެންވޭރު އުތުރު ދާއިރާގެ މެންބަރު އަޙްމަދު އައިފާން
A6: 5 | B6: މެދުހެންވޭރު ދާއިރާގެ މެންބަރު ޙުސައިން ނާޞިޙް
A7: 6 | B7: ހެންވޭރު ދެކުނު ދާއިރާގެ މެންބަރު ޙުސައިން އިމްރާން ލަޠީފް
A8: 7 | B8: ހެންވޭރު ހުޅަނގު ދާއިރާގެ މެންބަރު ޢަލީ އިބްރާހީމް
A9: 8 | B9: ގަލޮޅު އުތުރު ދާއިރާގެ މެންބަރު މުޙައްމަދު އިބްރާހީމް
A10: 9 | B10: ގަލޮޅު ދެކުނު ދާއިރާގެ މެންބަރު މީކާއީލު އަޙްމަދު ނަސީމް
A11: 10 | B11: މައްޗަންގޮޅި އުތުރު ދާއިރާގެ މެންބަރު އިބްރާހީމް މުޙައްމަދު
A12: 11 | B12: މައްޗަންގޮޅި މެދު ދާއިރާގެ މެންބަރު އަޙްމަދު ޟަމީރު
A13: 12 | B13: މައްޗަންގޮޅި ދެކުނު ދާއިރާގެ މެންބަރު މުޞްޠަފާ ޙުސައިން
... A95: 93 | B95: އައްޑޫމީދޫ ދާއިރާގެ މެންބަރު ޢަބްދުއްރަޙްމާން
