Workbook

Sheet Print
A1: ކޮމިޓީގެ ނަން އަދި ކޮމިޓީ ކޯޑު: | D1: =Haaziry!A1 -> ލާމަރުކަޒީ ކޮމިޓީ LM | N1: 2026 July | P1: For attendance period you want to generate, Copy Paste month written in "Haaziry" sheet "Column A" cell to this cell (N1)
A2: ޖުމްލަ ބައްދަލުވުން (ބޭއްވުނު އަދި މެންބަރުން ވަޑައިނުގެންނެވުމުގެ ސަބަބުން ކެންސަލްވި): | D2: =COUNTIFS(Haaziry!$A$2:$A$120,""&$N$1,Haaziry!$A$2:$A$120,"*") -> 1 | L2: ވަޑައިގަންނަވަން ޖެހޭ ބައްދަލުވުމުގެ ޖުމުލަ | M2: ވަޑައިގެންނެވި ޖުމުލަ (SC+O+P)
A3: ތާރީޙް: | D3: =N1 -> 2026 July
A4: ހޭދަވި ވަގުތު: | D4: =SUMIFS(Haaziry!$F$2:$F$120,Haaziry!$A$2:$A$120,""&$N$1) -> 0.00625
A5: ކޮމިޓީގަ ހިމެނިވަޑައިގަންނަވާ މެންބަރުން | C5: މެންބަރ ކޯޑް | D5: ޖުމްލަ | E5: ©+N | F5: S | G5: L | H5: O | I5: Ab | J5: Sc | K5: P
B6: {=INDEX(Haaziry!F$121:AH$121,ROWS(B$6:B6))} -> ހޭދަވި ވަގުތު | C6: {=INDEX(Haaziry!F$122:AH$122,ROWS(C6:C$6))} -> 1.3048611 | E6: {=SUM(COUNTIFS(Haaziry!$A$2:$A$122,""&$N$1,INDEX(Haaziry!$F$2:$AH$122,,MATCH($C6,Haaziry!$F$122:$AH$122,0)),{"© ","N"}))} -> 0 | F6: =COUNTIFS(Haaziry!$A$2:$A$122,""&$N$1,INDEX(Haaziry!$F$2:$AH$122,,MATCH($C6,Haaziry!$F$122:$AH$122,0)),"S") -> 0 | G6: =COUNTIFS(Haaziry!$A$2:$A$122,""&$N$1,INDEX(Haaziry!$F$2:$AH$122,,MATCH($C6,Haaziry!$F$122:$AH$122,0)),"L") -> 0 | H6: {=SUM(COUNTIFS(Haaziry!$A$2:$A$122,""&$N$1,INDEX(Haaziry!$F$2:$AH$122,,MATCH($C6,Haaziry!$F$122:$AH$122,0)),{"O","R"}))} -> 0 | I6: =COUNTIFS(Haaziry!$A$2:$A$122,""&$N$1,INDEX(Haaziry!$F$2:$AH$122,,MATCH($C6,Haaziry!$F$122:$AH$122,0)),"-") -> 0 | J6: =COUNTIFS(Haaziry!$A$2:$A$122,""&$N$1,INDEX(Haaziry!$F$2:$AH$122,,MATCH($C6,Haaziry!$F$122:$AH$122,0)),"@") -> 0 | K6: =COUNTIFS(Haaziry!$A$2:$A$122,""&$N$1,INDEX(Haaziry!$F$2:$AH$122,,MATCH($C6,Haaziry!$F$122:$AH$122,0)),"P") -> 0
A7: =_xlfn.AGGREGATE(3, 5, B$6:B6) -> 1 | B7: {=INDEX(Haaziry!F$121:AH$121,ROWS(B$6:B7))} -> ހެންވޭރު އުތުރު ދާއިރާގެ މެންބަރު އަޙްމަދު އައިފާން | C7: {=INDEX(Haaziry!F$122:AH$122,ROWS(C$6:C7))} -> 4 | D7: =$D$2 -> 1 | E7: {=SUM(COUNTIFS(Haaziry!$A$2:$A$122,""&$N$1,INDEX(Haaziry!$F$2:$AH$122,,MATCH($C7,Haaziry!$F$122:$AH$122,0)),{"© ","N"}))} -> 0 | F7: =COUNTIFS(Haaziry!$A$2:$A$122,""&$N$1,INDEX(Haaziry!$F$2:$AH$122,,MATCH($C7,Haaziry!$F$122:$AH$122,0)),"S") -> 0 | G7: =COUNTIFS(Haaziry!$A$2:$A$122,""&$N$1,INDEX(Haaziry!$F$2:$AH$122,,MATCH($C7,Haaziry!$F$122:$AH$122,0)),"L") -> 0 | H7: {=SUM(COUNTIFS(Haaziry!$A$2:$A$122,""&$N$1,INDEX(Haaziry!$F$2:$AH$122,,MATCH($C7,Haaziry!$F$122:$AH$122,0)),{"O","R"}))} -> 0 | I7: =COUNTIFS(Haaziry!$A$2:$A$122,""&$N$1,INDEX(Haaziry!$F$2:$AH$122,,MATCH($C7,Haaziry!$F$122:$AH$122,0)),"-") -> 0 | J7: =COUNTIFS(Haaziry!$A$2:$A$122,""&$N$1,INDEX(Haaziry!$F$2:$AH$122,,MATCH($C7,Haaziry!$F$122:$AH$122,0)),"@") -> 0 | K7: =COUNTIFS(Haaziry!$A$2:$A$122,""&$N$1,INDEX(Haaziry!$F$2:$AH$122,,MATCH($C7,Haaziry!$F$122:$AH$122,0)),"P") -> 1 | L7: =$D$2-$E7 -> 1 | M7: =$H7+$J7+$K7 -> 1 | P7: ހާޒިރީ ތައްޔާރުކުރެއްވުމުގައި ސަމާލުކަން ދެއްވަންވީ ކަންކަން:
A8: =_xlfn.AGGREGATE(3, 5, B$6:B7) -> 2 | B8: {=INDEX(Haaziry!F$121:AH$121,ROWS(B$6:B8))} -> މައްޗަންގޮޅި މެދު ދާއިރާގެ މެންބަރު އަޙްމަދު ޟަމީރު | C8: {=INDEX(Haaziry!F$122:AH$122,ROWS(C$6:C8))} -> 11 | D8: =$D$2 -> 1 | E8: {=SUM(COUNTIFS(Haaziry!$A$2:$A$122,""&$N$1,INDEX(Haaziry!$F$2:$AH$122,,MATCH($C8,Haaziry!$F$122:$AH$122,0)),{"© ","N"}))} -> 0 | F8: =COUNTIFS(Haaziry!$A$2:$A$122,""&$N$1,INDEX(Haaziry!$F$2:$AH$122,,MATCH($C8,Haaziry!$F$122:$AH$122,0)),"S") -> 0 | G8: =COUNTIFS(Haaziry!$A$2:$A$122,""&$N$1,INDEX(Haaziry!$F$2:$AH$122,,MATCH($C8,Haaziry!$F$122:$AH$122,0)),"L") -> 0 | H8: {=SUM(COUNTIFS(Haaziry!$A$2:$A$122,""&$N$1,INDEX(Haaziry!$F$2:$AH$122,,MATCH($C8,Haaziry!$F$122:$AH$122,0)),{"O","R"}))} -> 0 | I8: =COUNTIFS(Haaziry!$A$2:$A$122,""&$N$1,INDEX(Haaziry!$F$2:$AH$122,,MATCH($C8,Haaziry!$F$122:$AH$122,0)),"-") -> 0 | J8: =COUNTIFS(Haaziry!$A$2:$A$122,""&$N$1,INDEX(Haaziry!$F$2:$AH$122,,MATCH($C8,Haaziry!$F$122:$AH$122,0)),"@") -> 0 | K8: =COUNTIFS(Haaziry!$A$2:$A$122,""&$N$1,INDEX(Haaziry!$F$2:$AH$122,,MATCH($C8,Haaziry!$F$122:$AH$122,0)),"P") -> 1 | L8: =$D$2-$E8 -> 1 | M8: =$H8+$J8+$K8 -> 1 | P8: 1. ދާއިރާތަކުގެ ތަރުތީބުން މެންބަރުންގެ ނަންތައް އެތުރުން.
A9: =_xlfn.AGGREGATE(3, 5, B$6:B8) -> 3 | B9: {=INDEX(Haaziry!F$121:AH$121,ROWS(B$6:B9))} -> އުނގޫފާރު ދާއިރާގެ މެންބަރު އިބްރާހީމް ޝިފާޒް | C9: {=INDEX(Haaziry!F$122:AH$122,ROWS(C$6:C9))} -> 38 | D9: =$D$2 -> 1 | E9: {=SUM(COUNTIFS(Haaziry!$A$2:$A$122,""&$N$1,INDEX(Haaziry!$F$2:$AH$122,,MATCH($C9,Haaziry!$F$122:$AH$122,0)),{"© ","N"}))} -> 0 | F9: =COUNTIFS(Haaziry!$A$2:$A$122,""&$N$1,INDEX(Haaziry!$F$2:$AH$122,,MATCH($C9,Haaziry!$F$122:$AH$122,0)),"S") -> 0 | G9: =COUNTIFS(Haaziry!$A$2:$A$122,""&$N$1,INDEX(Haaziry!$F$2:$AH$122,,MATCH($C9,Haaziry!$F$122:$AH$122,0)),"L") -> 0 | H9: {=SUM(COUNTIFS(Haaziry!$A$2:$A$122,""&$N$1,INDEX(Haaziry!$F$2:$AH$122,,MATCH($C9,Haaziry!$F$122:$AH$122,0)),{"O","R"}))} -> 0 | I9: =COUNTIFS(Haaziry!$A$2:$A$122,""&$N$1,INDEX(Haaziry!$F$2:$AH$122,,MATCH($C9,Haaziry!$F$122:$AH$122,0)),"-") -> 0 | J9: =COUNTIFS(Haaziry!$A$2:$A$122,""&$N$1,INDEX(Haaziry!$F$2:$AH$122,,MATCH($C9,Haaziry!$F$122:$AH$122,0)),"@") -> 0 | K9: =COUNTIFS(Haaziry!$A$2:$A$122,""&$N$1,INDEX(Haaziry!$F$2:$AH$122,,MATCH($C9,Haaziry!$F$122:$AH$122,0)),"P") -> 1 | L9: =$D$2-$E9 -> 1 | M9: =$H9+$J9+$K9 -> 1 | P9: 2. ނަން ދެފޮޅުވަތަށްވުރެ ދިގުނުވާގޮތަށް ފޮންޓް ސައިޒް ބޮޑުކުރުން (ދެ ފޮޅުވަތަށް ނަން އަރާނަމަ، އެ ސެލްއަކަށް ނަން ފެތޭ އެންމެ ބޮޑެއްކޮށް ފޮންޓް ސައިޒް ބެހެއްޓުން އަދި ހުރިހާ ނަމެއްވެސް އެއް ފޮންޓް ސައިޒެއްގައި ބެހެއްޓުން.)
A10: =_xlfn.AGGREGATE(3, 5, B$6:B9) -> 4 | B10: {=INDEX(Haaziry!F$121:AH$121,ROWS(B$6:B10))} -> ނައިފަރު ދާއިރާގެ މެންބަރު ޔާސީން ޢަބްދުﷲ | C10: {=INDEX(Haaziry!F$122:AH$122,ROWS(C$6:C10))} -> 47 | D10: =$D$2 -> 1 | E10: {=SUM(COUNTIFS(Haaziry!$A$2:$A$122,""&$N$1,INDEX(Haaziry!$F$2:$AH$122,,MATCH($C10,Haaziry!$F$122:$AH$122,0)),{"© ","N"}))} -> 0 | F10: =COUNTIFS(Haaziry!$A$2:$A$122,""&$N$1,INDEX(Haaziry!$F$2:$AH$122,,MATCH($C10,Haaziry!$F$122:$AH$122,0)),"S") -> 0 | G10: =COUNTIFS(Haaziry!$A$2:$A$122,""&$N$1,INDEX(Haaziry!$F$2:$AH$122,,MATCH($C10,Haaziry!$F$122:$AH$122,0)),"L") -> 0 | H10: {=SUM(COUNTIFS(Haaziry!$A$2:$A$122,""&$N$1,INDEX(Haaziry!$F$2:$AH$122,,MATCH($C10,Haaziry!$F$122:$AH$122,0)),{"O","R"}))} -> 0 | I10: =COUNTIFS(Haaziry!$A$2:$A$122,""&$N$1,INDEX(Haaziry!$F$2:$AH$122,,MATCH($C10,Haaziry!$F$122:$AH$122,0)),"-") -> 0 | J10: =COUNTIFS(Haaziry!$A$2:$A$122,""&$N$1,INDEX(Haaziry!$F$2:$AH$122,,MATCH($C10,Haaziry!$F$122:$AH$122,0)),"@") -> 0 | K10: =COUNTIFS(Haaziry!$A$2:$A$122,""&$N$1,INDEX(Haaziry!$F$2:$AH$122,,MATCH($C10,Haaziry!$F$122:$AH$122,0)),"P") -> 1 | L10: =$D$2-$E10 -> 1 | M10: =$H10+$J10+$K10 -> 1 | P10: 3. ހުރިހާ ރޯތަކެއްގެ "ރޯ ހައިޓް" އެއްވަރުކުރުން.
A11: =_xlfn.AGGREGATE(3, 5, B$6:B10) -> 5 | B11: {=INDEX(Haaziry!F$121:AH$121,ROWS(B$6:B11))} -> ކެޔޮދޫ ދާއިރާގެ މެންބަރު މުޙައްމަދު ނިއުޝާދު | C11: {=INDEX(Haaziry!F$122:AH$122,ROWS(C$6:C11))} -> 59 | D11: =$D$2 -> 1 | E11: {=SUM(COUNTIFS(Haaziry!$A$2:$A$122,""&$N$1,INDEX(Haaziry!$F$2:$AH$122,,MATCH($C11,Haaziry!$F$122:$AH$122,0)),{"© ","N"}))} -> 0 | F11: =COUNTIFS(Haaziry!$A$2:$A$122,""&$N$1,INDEX(Haaziry!$F$2:$AH$122,,MATCH($C11,Haaziry!$F$122:$AH$122,0)),"S") -> 0 | G11: =COUNTIFS(Haaziry!$A$2:$A$122,""&$N$1,INDEX(Haaziry!$F$2:$AH$122,,MATCH($C11,Haaziry!$F$122:$AH$122,0)),"L") -> 0 | H11: {=SUM(COUNTIFS(Haaziry!$A$2:$A$122,""&$N$1,INDEX(Haaziry!$F$2:$AH$122,,MATCH($C11,Haaziry!$F$122:$AH$122,0)),{"O","R"}))} -> 0 | I11: =COUNTIFS(Haaziry!$A$2:$A$122,""&$N$1,INDEX(Haaziry!$F$2:$AH$122,,MATCH($C11,Haaziry!$F$122:$AH$122,0)),"-") -> 0 | J11: =COUNTIFS(Haaziry!$A$2:$A$122,""&$N$1,INDEX(Haaziry!$F$2:$AH$122,,MATCH($C11,Haaziry!$F$122:$AH$122,0)),"@") -> 0 | K11: =COUNTIFS(Haaziry!$A$2:$A$122,""&$N$1,INDEX(Haaziry!$F$2:$AH$122,,MATCH($C11,Haaziry!$F$122:$AH$122,0)),"P") -> 1 | L11: =$D$2-$E11 -> 1 | M11: =$H11+$J11+$K11 -> 1 | P11: 4. "ވަޑައިގަންނަވަންޖެހޭ ބައްދަލުވުމުގެ ޖުމްލަ" އަދި "ވަޑައިގެންނެވި ޖުމްލަ" މި ދެކޮލަމްގެ ޖުމްލަ ވަކިވަކިން އެނގޭނޭ ގޮތަށް މިދެކޮލަމްގެ ތިރިއަށް ފޯމިއުލާއެއް އިންސަރޓް ކޮށް، އެޖުމްލަ ފެންނާނޭގޮތަށް ހާޒިރީ ހެދުން. (ނޯޓް:މިޑޮކިއުމަންޓްގައި އެވަނީ ދެންނެވުނު ފޯމިއުލާ އިންސަރޓް ކުރެވިފައެވެ.)
A12: =_xlfn.AGGREGATE(3, 5, B$6:B11) -> 6 | B12: {=INDEX(Haaziry!F$121:AH$121,ROWS(B$6:B12))} -> ބިލެތްދޫ ދާއިރާގެ މެންބަރު އަޙްމަދު އަސްލަމް | C12: {=INDEX(Haaziry!F$122:AH$122,ROWS(C$6:C12))} -> 62 | D12: =$D$2 -> 1 | E12: {=SUM(COUNTIFS(Haaziry!$A$2:$A$122,""&$N$1,INDEX(Haaziry!$F$2:$AH$122,,MATCH($C12,Haaziry!$F$122:$AH$122,0)),{"© ","N"}))} -> 0 | F12: =COUNTIFS(Haaziry!$A$2:$A$122,""&$N$1,INDEX(Haaziry!$F$2:$AH$122,,MATCH($C12,Haaziry!$F$122:$AH$122,0)),"S") -> 1 | G12: =COUNTIFS(Haaziry!$A$2:$A$122,""&$N$1,INDEX(Haaziry!$F$2:$AH$122,,MATCH($C12,Haaziry!$F$122:$AH$122,0)),"L") -> 0 | H12: {=SUM(COUNTIFS(Haaziry!$A$2:$A$122,""&$N$1,INDEX(Haaziry!$F$2:$AH$122,,MATCH($C12,Haaziry!$F$122:$AH$122,0)),{"O","R"}))} -> 0 | I12: =COUNTIFS(Haaziry!$A$2:$A$122,""&$N$1,INDEX(Haaziry!$F$2:$AH$122,,MATCH($C12,Haaziry!$F$122:$AH$122,0)),"-") -> 0 | J12: =COUNTIFS(Haaziry!$A$2:$A$122,""&$N$1,INDEX(Haaziry!$F$2:$AH$122,,MATCH($C12,Haaziry!$F$122:$AH$122,0)),"@") -> 0 | K12: =COUNTIFS(Haaziry!$A$2:$A$122,""&$N$1,INDEX(Haaziry!$F$2:$AH$122,,MATCH($C12,Haaziry!$F$122:$AH$122,0)),"P") -> 0 | L12: =$D$2-$E12 -> 1 | M12: =$H12+$J12+$K12 -> 0 | P12: 5. ހާޒިރީގެ މުއްދަތަކީ މުޅި މަސް އެއްކޮށް (މިސާލަކަށް 1 ޖަނަވަރީ 2026 އިން 31 ޖަނަވަރީ 2026 ގެ ނިޔަލަށް) ކަމުގައިވާނަމަ، ތާރީޚު ގޮޅީގައި ލިޔާނީ މަހާއި އަހަރު (ޖަނަވަރީ 2026). ނަމަވެސް ހާޒިރީގެ މުއްދަތަކީ ވަކި މުއްދަތެއްނަމަ (މިސާލަކަށް 3 ޖަނަވަރީ 2026 އިން 10 ޖަނަވަރީ 2026 ގެ ނިޔަލަށްކަމަށްވާނަމަ)، ތާރީޚު ގޮޅީގައި އެ މުއްދަތު ސާފުކޮށް ބަޔާންކުރުން (3 ޖަނަވަރީ 2026 އިން 10 ޖަނަވަރީ 2026 އަށް).
A13: =_xlfn.AGGREGATE(3, 5, B$6:B12) -> 7 | B13: {=INDEX(Haaziry!F$121:AH$121,ROWS(B$6:B13))} -> ނިލަންދޫ ދާއިރާގެ މެންބަރު ފާޠިމަތު ސަޢުދާ | C13: {=INDEX(Haaziry!F$122:AH$122,ROWS(C$6:C13))} -> 63 | D13: =$D$2 -> 1 | E13: {=SUM(COUNTIFS(Haaziry!$A$2:$A$122,""&$N$1,INDEX(Haaziry!$F$2:$AH$122,,MATCH($C13,Haaziry!$F$122:$AH$122,0)),{"© ","N"}))} -> 0 | F13: =COUNTIFS(Haaziry!$A$2:$A$122,""&$N$1,INDEX(Haaziry!$F$2:$AH$122,,MATCH($C13,Haaziry!$F$122:$AH$122,0)),"S") -> 0 | G13: =COUNTIFS(Haaziry!$A$2:$A$122,""&$N$1,INDEX(Haaziry!$F$2:$AH$122,,MATCH($C13,Haaziry!$F$122:$AH$122,0)),"L") -> 0 | H13: {=SUM(COUNTIFS(Haaziry!$A$2:$A$122,""&$N$1,INDEX(Haaziry!$F$2:$AH$122,,MATCH($C13,Haaziry!$F$122:$AH$122,0)),{"O","R"}))} -> 0 | I13: =COUNTIFS(Haaziry!$A$2:$A$122,""&$N$1,INDEX(Haaziry!$F$2:$AH$122,,MATCH($C13,Haaziry!$F$122:$AH$122,0)),"-") -> 0 | J13: =COUNTIFS(Haaziry!$A$2:$A$122,""&$N$1,INDEX(Haaziry!$F$2:$AH$122,,MATCH($C13,Haaziry!$F$122:$AH$122,0)),"@") -> 0 | K13: =COUNTIFS(Haaziry!$A$2:$A$122,""&$N$1,INDEX(Haaziry!$F$2:$AH$122,,MATCH($C13,Haaziry!$F$122:$AH$122,0)),"P") -> 1 | L13: =$D$2-$E13 -> 1 | M13: =$H13+$J13+$K13 -> 1
A14: =_xlfn.AGGREGATE(3, 5, B$6:B13) -> 8 | B14: {=INDEX(Haaziry!F$121:AH$121,ROWS(B$6:B14))} -> ވިލުފުށި ދާއިރާގެ މެންބަރު ޙަސަން ވަޙީދު | C14: {=INDEX(Haaziry!F$122:AH$122,ROWS(C$6:C14))} -> 66 | D14: =$D$2 -> 1 | E14: {=SUM(COUNTIFS(Haaziry!$A$2:$A$122,""&$N$1,INDEX(Haaziry!$F$2:$AH$122,,MATCH($C14,Haaziry!$F$122:$AH$122,0)),{"© ","N"}))} -> 0 | F14: =COUNTIFS(Haaziry!$A$2:$A$122,""&$N$1,INDEX(Haaziry!$F$2:$AH$122,,MATCH($C14,Haaziry!$F$122:$AH$122,0)),"S") -> 0 | G14: =COUNTIFS(Haaziry!$A$2:$A$122,""&$N$1,INDEX(Haaziry!$F$2:$AH$122,,MATCH($C14,Haaziry!$F$122:$AH$122,0)),"L") -> 0 | H14: {=SUM(COUNTIFS(Haaziry!$A$2:$A$122,""&$N$1,INDEX(Haaziry!$F$2:$AH$122,,MATCH($C14,Haaziry!$F$122:$AH$122,0)),{"O","R"}))} -> 0 | I14: =COUNTIFS(Haaziry!$A$2:$A$122,""&$N$1,INDEX(Haaziry!$F$2:$AH$122,,MATCH($C14,Haaziry!$F$122:$AH$122,0)),"-") -> 0 | J14: =COUNTIFS(Haaziry!$A$2:$A$122,""&$N$1,INDEX(Haaziry!$F$2:$AH$122,,MATCH($C14,Haaziry!$F$122:$AH$122,0)),"@") -> 0 | K14: =COUNTIFS(Haaziry!$A$2:$A$122,""&$N$1,INDEX(Haaziry!$F$2:$AH$122,,MATCH($C14,Haaziry!$F$122:$AH$122,0)),"P") -> 1 | L14: =$D$2-$E14 -> 1 | M14: =$H14+$J14+$K14 -> 1 | P14: ނޯޓު: ކޮމިޓީ އެލަވަންސް ދިނުމުގެ އުސޫލު - ޝެއަރޕޮއިންޓްގެ ލެޖިސްލޭޓިވް ޗެނަލްގައި ހިމެނޭ ޑޮކިއުމަންޓްސް > ޖެނެރަލް > އިމްޕޯޓަންޓް ޑޮކިއުމަންޓްސް > 2011.08.24_ކޮމިޓީ އެލަވަންސް އުސޫލު އެމް.އެލް
A15: =_xlfn.AGGREGATE(3, 5, B$6:B14) -> 9 | B15: {=INDEX(Haaziry!F$121:AH$121,ROWS(B$6:B15))} -> ގެމަނަފުށި ދާއިރާގެ މެންބަރު އަސަދުﷲ ޝިހާބް | C15: {=INDEX(Haaziry!F$122:AH$122,ROWS(C$6:C15))} -> 76 | D15: =$D$2 -> 1 | E15: {=SUM(COUNTIFS(Haaziry!$A$2:$A$122,""&$N$1,INDEX(Haaziry!$F$2:$AH$122,,MATCH($C15,Haaziry!$F$122:$AH$122,0)),{"© ","N"}))} -> 1 | F15: =COUNTIFS(Haaziry!$A$2:$A$122,""&$N$1,INDEX(Haaziry!$F$2:$AH$122,,MATCH($C15,Haaziry!$F$122:$AH$122,0)),"S") -> 0 | G15: =COUNTIFS(Haaziry!$A$2:$A$122,""&$N$1,INDEX(Haaziry!$F$2:$AH$122,,MATCH($C15,Haaziry!$F$122:$AH$122,0)),"L") -> 0 | H15: {=SUM(COUNTIFS(Haaziry!$A$2:$A$122,""&$N$1,INDEX(Haaziry!$F$2:$AH$122,,MATCH($C15,Haaziry!$F$122:$AH$122,0)),{"O","R"}))} -> 0 | I15: =COUNTIFS(Haaziry!$A$2:$A$122,""&$N$1,INDEX(Haaziry!$F$2:$AH$122,,MATCH($C15,Haaziry!$F$122:$AH$122,0)),"-") -> 0 | J15: =COUNTIFS(Haaziry!$A$2:$A$122,""&$N$1,INDEX(Haaziry!$F$2:$AH$122,,MATCH($C15,Haaziry!$F$122:$AH$122,0)),"@") -> 0 | K15: =COUNTIFS(Haaziry!$A$2:$A$122,""&$N$1,INDEX(Haaziry!$F$2:$AH$122,,MATCH($C15,Haaziry!$F$122:$AH$122,0)),"P") -> 0 | L15: =$D$2-$E15 -> 0 | M15: =$H15+$J15+$K15 -> 0
A16: =_xlfn.AGGREGATE(3, 5, B$6:B15) -> 9 | B16: {=INDEX(Haaziry!F$121:AH$121,ROWS(B$6:B16))} -> ކޮލަމާފުށި ދާއިރާގެ މެންބަރު އިބްރާހީމްދީދީ | C16: {=INDEX(Haaziry!F$122:AH$122,ROWS(C$6:C16))} -> 77 | D16: =$D$2 -> 1 | E16: {=SUM(COUNTIFS(Haaziry!$A$2:$A$122,""&$N$1,INDEX(Haaziry!$F$2:$AH$122,,MATCH($C16,Haaziry!$F$122:$AH$122,0)),{"© ","N"}))} -> 0 | F16: =COUNTIFS(Haaziry!$A$2:$A$122,""&$N$1,INDEX(Haaziry!$F$2:$AH$122,,MATCH($C16,Haaziry!$F$122:$AH$122,0)),"S") -> 0 | G16: =COUNTIFS(Haaziry!$A$2:$A$122,""&$N$1,INDEX(Haaziry!$F$2:$AH$122,,MATCH($C16,Haaziry!$F$122:$AH$122,0)),"L") -> 0 | H16: {=SUM(COUNTIFS(Haaziry!$A$2:$A$122,""&$N$1,INDEX(Haaziry!$F$2:$AH$122,,MATCH($C16,Haaziry!$F$122:$AH$122,0)),{"O","R"}))} -> 0 | I16: =COUNTIFS(Haaziry!$A$2:$A$122,""&$N$1,INDEX(Haaziry!$F$2:$AH$122,,MATCH($C16,Haaziry!$F$122:$AH$122,0)),"-") -> 0 | J16: =COUNTIFS(Haaziry!$A$2:$A$122,""&$N$1,INDEX(Haaziry!$F$2:$AH$122,,MATCH($C16,Haaziry!$F$122:$AH$122,0)),"@") -> 0 | K16: =COUNTIFS(Haaziry!$A$2:$A$122,""&$N$1,INDEX(Haaziry!$F$2:$AH$122,,MATCH($C16,Haaziry!$F$122:$AH$122,0)),"P") -> 1 | L16: =$D$2-$E16 -> 1 | M16: =$H16+$J16+$K16 -> 1 | AB16: 2024 May
A17: =_xlfn.AGGREGATE(3, 5, B$6:B16) -> 10 | B17: {=INDEX(Haaziry!F$121:AH$121,ROWS(B$6:B17))} -> ހިތަދޫ އުތުރު ދާއިރާގެ މެންބަރު ޢަބްދުﷲ ޞާދިޤު | C17: {=INDEX(Haaziry!F$122:AH$122,ROWS(C$6:C17))} -> 90 | D17: =$D$2 -> 1 | E17: {=SUM(COUNTIFS(Haaziry!$A$2:$A$122,""&$N$1,INDEX(Haaziry!$F$2:$AH$122,,MATCH($C17,Haaziry!$F$122:$AH$122,0)),{"© ","N"}))} -> 0 | F17: =COUNTIFS(Haaziry!$A$2:$A$122,""&$N$1,INDEX(Haaziry!$F$2:$AH$122,,MATCH($C17,Haaziry!$F$122:$AH$122,0)),"S") -> 0 | G17: =COUNTIFS(Haaziry!$A$2:$A$122,""&$N$1,INDEX(Haaziry!$F$2:$AH$122,,MATCH($C17,Haaziry!$F$122:$AH$122,0)),"L") -> 0 | H17: {=SUM(COUNTIFS(Haaziry!$A$2:$A$122,""&$N$1,INDEX(Haaziry!$F$2:$AH$122,,MATCH($C17,Haaziry!$F$122:$AH$122,0)),{"O","R"}))} -> 0 | I17: =COUNTIFS(Haaziry!$A$2:$A$122,""&$N$1,INDEX(Haaziry!$F$2:$AH$122,,MATCH($C17,Haaziry!$F$122:$AH$122,0)),"-") -> 0 | J17: =COUNTIFS(Haaziry!$A$2:$A$122,""&$N$1,INDEX(Haaziry!$F$2:$AH$122,,MATCH($C17,Haaziry!$F$122:$AH$122,0)),"@") -> 0 | K17: =COUNTIFS(Haaziry!$A$2:$A$122,""&$N$1,INDEX(Haaziry!$F$2:$AH$122,,MATCH($C17,Haaziry!$F$122:$AH$122,0)),"P") -> 1 | L17: =$D$2-$E17 -> 1 | M17: =$H17+$J17+$K17 -> 1
A18: =_xlfn.AGGREGATE(3, 5, B$6:B17) -> 11 | B18: {=INDEX(Haaziry!F$121:AH$121,ROWS(B$6:B18))} -> އައްޑޫމީދޫ ދާއިރާގެ މެންބަރު ޢަބްދުއްރަޙްމާން | C18: {=INDEX(Haaziry!F$122:AH$122,ROWS(C$6:C18))} -> 93 | D18: =$D$2 -> 1 | E18: {=SUM(COUNTIFS(Haaziry!$A$2:$A$122,""&$N$1,INDEX(Haaziry!$F$2:$AH$122,,MATCH($C18,Haaziry!$F$122:$AH$122,0)),{"© ","N"}))} -> 0 | F18: =COUNTIFS(Haaziry!$A$2:$A$122,""&$N$1,INDEX(Haaziry!$F$2:$AH$122,,MATCH($C18,Haaziry!$F$122:$AH$122,0)),"S") -> 0 | G18: =COUNTIFS(Haaziry!$A$2:$A$122,""&$N$1,INDEX(Haaziry!$F$2:$AH$122,,MATCH($C18,Haaziry!$F$122:$AH$122,0)),"L") -> 0 | H18: {=SUM(COUNTIFS(Haaziry!$A$2:$A$122,""&$N$1,INDEX(Haaziry!$F$2:$AH$122,,MATCH($C18,Haaziry!$F$122:$AH$122,0)),{"O","R"}))} -> 0 | I18: =COUNTIFS(Haaziry!$A$2:$A$122,""&$N$1,INDEX(Haaziry!$F$2:$AH$122,,MATCH($C18,Haaziry!$F$122:$AH$122,0)),"-") -> 0 | J18: =COUNTIFS(Haaziry!$A$2:$A$122,""&$N$1,INDEX(Haaziry!$F$2:$AH$122,,MATCH($C18,Haaziry!$F$122:$AH$122,0)),"@") -> 0 | K18: =COUNTIFS(Haaziry!$A$2:$A$122,""&$N$1,INDEX(Haaziry!$F$2:$AH$122,,MATCH($C18,Haaziry!$F$122:$AH$122,0)),"P") -> 1 | L18: =$D$2-$E18 -> 1 | M18: =$H18+$J18+$K18 -> 1
A19: =_xlfn.AGGREGATE(3, 5, B$6:B18) -> 12 | B19: {=INDEX(Haaziry!F$121:AH$121,ROWS(B$6:B19))} -> ކެންދޫ ދާއިރާގެ މެންބަރު މަޢުރޫފް ޛާކިރު | C19: {=INDEX(Haaziry!F$122:AH$122,ROWS(C$6:C19))} -> 44 | E19: {=SUM(COUNTIFS(Haaziry!$A$2:$A$122,""&$N$1,INDEX(Haaziry!$F$2:$AH$122,,MATCH($C19,Haaziry!$F$122:$AH$122,0)),{"© ","N"}))} -> 1 | F19: =COUNTIFS(Haaziry!$A$2:$A$122,""&$N$1,INDEX(Haaziry!$F$2:$AH$122,,MATCH($C19,Haaziry!$F$122:$AH$122,0)),"S") -> 0 | G19: =COUNTIFS(Haaziry!$A$2:$A$122,""&$N$1,INDEX(Haaziry!$F$2:$AH$122,,MATCH($C19,Haaziry!$F$122:$AH$122,0)),"L") -> 0 | H19: {=SUM(COUNTIFS(Haaziry!$A$2:$A$122,""&$N$1,INDEX(Haaziry!$F$2:$AH$122,,MATCH($C19,Haaziry!$F$122:$AH$122,0)),{"O","R"}))} -> 0 | I19: =COUNTIFS(Haaziry!$A$2:$A$122,""&$N$1,INDEX(Haaziry!$F$2:$AH$122,,MATCH($C19,Haaziry!$F$122:$AH$122,0)),"-") -> 0 | J19: =COUNTIFS(Haaziry!$A$2:$A$122,""&$N$1,INDEX(Haaziry!$F$2:$AH$122,,MATCH($C19,Haaziry!$F$122:$AH$122,0)),"@") -> 0 | K19: =COUNTIFS(Haaziry!$A$2:$A$122,""&$N$1,INDEX(Haaziry!$F$2:$AH$122,,MATCH($C19,Haaziry!$F$122:$AH$122,0)),"P") -> 0 | Z19: m
A20: =_xlfn.AGGREGATE(3, 5, B$6:B19) -> 12 | B20: {=INDEX(Haaziry!F$121:AH$121,ROWS(B$6:B20))} -> 0 | C20: {=INDEX(Haaziry!F$122:AH$122,ROWS(C$6:C20))} -> 0 | E20: {=SUM(COUNTIFS(Haaziry!$A$2:$A$122,""&$N$1,INDEX(Haaziry!$F$2:$AH$122,,MATCH($C20,Haaziry!$F$122:$AH$122,0)),{"© ","N"}))} -> #N/A | F20: =COUNTIFS(Haaziry!$A$2:$A$122,""&$N$1,INDEX(Haaziry!$F$2:$AH$122,,MATCH($C20,Haaziry!$F$122:$AH$122,0)),"S") -> #N/A | G20: =COUNTIFS(Haaziry!$A$2:$A$122,""&$N$1,INDEX(Haaziry!$F$2:$AH$122,,MATCH($C20,Haaziry!$F$122:$AH$122,0)),"L") -> #N/A | H20: {=SUM(COUNTIFS(Haaziry!$A$2:$A$122,""&$N$1,INDEX(Haaziry!$F$2:$AH$122,,MATCH($C20,Haaziry!$F$122:$AH$122,0)),{"O","R"}))} -> #N/A | I20: =COUNTIFS(Haaziry!$A$2:$A$122,""&$N$1,INDEX(Haaziry!$F$2:$AH$122,,MATCH($C20,Haaziry!$F$122:$AH$122,0)),"-") -> #N/A | J20: =COUNTIFS(Haaziry!$A$2:$A$122,""&$N$1,INDEX(Haaziry!$F$2:$AH$122,,MATCH($C20,Haaziry!$F$122:$AH$122,0)),"@") -> #N/A | K20: =COUNTIFS(Haaziry!$A$2:$A$122,""&$N$1,INDEX(Haaziry!$F$2:$AH$122,,MATCH($C20,Haaziry!$F$122:$AH$122,0)),"P") -> #N/A
A21: =_xlfn.AGGREGATE(3, 5, B$6:B20) -> 12 | B21: {=INDEX(Haaziry!F$121:AH$121,ROWS(B$6:B21))} -> 0 | C21: {=INDEX(Haaziry!F$122:AH$122,ROWS(C$6:C21))} -> 0 | E21: {=SUM(COUNTIFS(Haaziry!$A$2:$A$122,""&$N$1,INDEX(Haaziry!$F$2:$AH$122,,MATCH($C21,Haaziry!$F$122:$AH$122,0)),{"© ","N"}))} -> #N/A | F21: =COUNTIFS(Haaziry!$A$2:$A$122,""&$N$1,INDEX(Haaziry!$F$2:$AH$122,,MATCH($C21,Haaziry!$F$122:$AH$122,0)),"S") -> #N/A | G21: =COUNTIFS(Haaziry!$A$2:$A$122,""&$N$1,INDEX(Haaziry!$F$2:$AH$122,,MATCH($C21,Haaziry!$F$122:$AH$122,0)),"L") -> #N/A | H21: {=SUM(COUNTIFS(Haaziry!$A$2:$A$122,""&$N$1,INDEX(Haaziry!$F$2:$AH$122,,MATCH($C21,Haaziry!$F$122:$AH$122,0)),{"O","R"}))} -> #N/A | I21: =COUNTIFS(Haaziry!$A$2:$A$122,""&$N$1,INDEX(Haaziry!$F$2:$AH$122,,MATCH($C21,Haaziry!$F$122:$AH$122,0)),"-") -> #N/A | J21: =COUNTIFS(Haaziry!$A$2:$A$122,""&$N$1,INDEX(Haaziry!$F$2:$AH$122,,MATCH($C21,Haaziry!$F$122:$AH$122,0)),"@") -> #N/A | K21: =COUNTIFS(Haaziry!$A$2:$A$122,""&$N$1,INDEX(Haaziry!$F$2:$AH$122,,MATCH($C21,Haaziry!$F$122:$AH$122,0)),"P") -> #N/A
A22: =_xlfn.AGGREGATE(3, 5, B$6:B21) -> 12 | B22: {=INDEX(Haaziry!F$121:AH$121,ROWS(B$6:B22))} -> 0 | C22: {=INDEX(Haaziry!F$122:AH$122,ROWS(C$6:C22))} -> 0 | E22: {=SUM(COUNTIFS(Haaziry!$A$2:$A$122,""&$N$1,INDEX(Haaziry!$F$2:$AH$122,,MATCH($C22,Haaziry!$F$122:$AH$122,0)),{"© ","N"}))} -> #N/A | F22: =COUNTIFS(Haaziry!$A$2:$A$122,""&$N$1,INDEX(Haaziry!$F$2:$AH$122,,MATCH($C22,Haaziry!$F$122:$AH$122,0)),"S") -> #N/A | G22: =COUNTIFS(Haaziry!$A$2:$A$122,""&$N$1,INDEX(Haaziry!$F$2:$AH$122,,MATCH($C22,Haaziry!$F$122:$AH$122,0)),"L") -> #N/A | H22: {=SUM(COUNTIFS(Haaziry!$A$2:$A$122,""&$N$1,INDEX(Haaziry!$F$2:$AH$122,,MATCH($C22,Haaziry!$F$122:$AH$122,0)),{"O","R"}))} -> #N/A | I22: =COUNTIFS(Haaziry!$A$2:$A$122,""&$N$1,INDEX(Haaziry!$F$2:$AH$122,,MATCH($C22,Haaziry!$F$122:$AH$122,0)),"-") -> #N/A | J22: =COUNTIFS(Haaziry!$A$2:$A$122,""&$N$1,INDEX(Haaziry!$F$2:$AH$122,,MATCH($C22,Haaziry!$F$122:$AH$122,0)),"@") -> #N/A | K22: =COUNTIFS(Haaziry!$A$2:$A$122,""&$N$1,INDEX(Haaziry!$F$2:$AH$122,,MATCH($C22,Haaziry!$F$122:$AH$122,0)),"P") -> #N/A
A23: =_xlfn.AGGREGATE(3, 5, B$6:B22) -> 12 | B23: {=INDEX(Haaziry!F$121:AH$121,ROWS(B$6:B23))} -> 0 | C23: {=INDEX(Haaziry!F$122:AH$122,ROWS(C$6:C23))} -> 0 | E23: {=SUM(COUNTIFS(Haaziry!$A$2:$A$122,""&$N$1,INDEX(Haaziry!$F$2:$AH$122,,MATCH($C23,Haaziry!$F$122:$AH$122,0)),{"© ","N"}))} -> #N/A | F23: =COUNTIFS(Haaziry!$A$2:$A$122,""&$N$1,INDEX(Haaziry!$F$2:$AH$122,,MATCH($C23,Haaziry!$F$122:$AH$122,0)),"S") -> #N/A | G23: =COUNTIFS(Haaziry!$A$2:$A$122,""&$N$1,INDEX(Haaziry!$F$2:$AH$122,,MATCH($C23,Haaziry!$F$122:$AH$122,0)),"L") -> #N/A | H23: {=SUM(COUNTIFS(Haaziry!$A$2:$A$122,""&$N$1,INDEX(Haaziry!$F$2:$AH$122,,MATCH($C23,Haaziry!$F$122:$AH$122,0)),{"O","R"}))} -> #N/A | I23: =COUNTIFS(Haaziry!$A$2:$A$122,""&$N$1,INDEX(Haaziry!$F$2:$AH$122,,MATCH($C23,Haaziry!$F$122:$AH$122,0)),"-") -> #N/A | J23: =COUNTIFS(Haaziry!$A$2:$A$122,""&$N$1,INDEX(Haaziry!$F$2:$AH$122,,MATCH($C23,Haaziry!$F$122:$AH$122,0)),"@") -> #N/A | K23: =COUNTIFS(Haaziry!$A$2:$A$122,""&$N$1,INDEX(Haaziry!$F$2:$AH$122,,MATCH($C23,Haaziry!$F$122:$AH$122,0)),"P") -> #N/A
A24: =_xlfn.AGGREGATE(3, 5, B$6:B23) -> 12 | B24: {=INDEX(Haaziry!F$121:AH$121,ROWS(B$6:B24))} -> 0 | C24: {=INDEX(Haaziry!F$122:AH$122,ROWS(C$6:C24))} -> 0 | E24: {=SUM(COUNTIFS(Haaziry!$A$2:$A$122,""&$N$1,INDEX(Haaziry!$F$2:$AH$122,,MATCH($C24,Haaziry!$F$122:$AH$122,0)),{"© ","N"}))} -> #N/A | F24: =COUNTIFS(Haaziry!$A$2:$A$122,""&$N$1,INDEX(Haaziry!$F$2:$AH$122,,MATCH($C24,Haaziry!$F$122:$AH$122,0)),"S") -> #N/A | G24: =COUNTIFS(Haaziry!$A$2:$A$122,""&$N$1,INDEX(Haaziry!$F$2:$AH$122,,MATCH($C24,Haaziry!$F$122:$AH$122,0)),"L") -> #N/A | H24: {=SUM(COUNTIFS(Haaziry!$A$2:$A$122,""&$N$1,INDEX(Haaziry!$F$2:$AH$122,,MATCH($C24,Haaziry!$F$122:$AH$122,0)),{"O","R"}))} -> #N/A | I24: =COUNTIFS(Haaziry!$A$2:$A$122,""&$N$1,INDEX(Haaziry!$F$2:$AH$122,,MATCH($C24,Haaziry!$F$122:$AH$122,0)),"-") -> #N/A | J24: =COUNTIFS(Haaziry!$A$2:$A$122,""&$N$1,INDEX(Haaziry!$F$2:$AH$122,,MATCH($C24,Haaziry!$F$122:$AH$122,0)),"@") -> #N/A | K24: =COUNTIFS(Haaziry!$A$2:$A$122,""&$N$1,INDEX(Haaziry!$F$2:$AH$122,,MATCH($C24,Haaziry!$F$122:$AH$122,0)),"P") -> #N/A
A25: =_xlfn.AGGREGATE(3, 5, B$6:B24) -> 12 | B25: {=INDEX(Haaziry!F$121:AH$121,ROWS(B$6:B25))} -> 0 | C25: {=INDEX(Haaziry!F$122:AH$122,ROWS(C$6:C25))} -> 0 | E25: {=SUM(COUNTIFS(Haaziry!$A$2:$A$122,""&$N$1,INDEX(Haaziry!$F$2:$AH$122,,MATCH($C25,Haaziry!$F$122:$AH$122,0)),{"© ","N"}))} -> #N/A | F25: =COUNTIFS(Haaziry!$A$2:$A$122,""&$N$1,INDEX(Haaziry!$F$2:$AH$122,,MATCH($C25,Haaziry!$F$122:$AH$122,0)),"S") -> #N/A | G25: =COUNTIFS(Haaziry!$A$2:$A$122,""&$N$1,INDEX(Haaziry!$F$2:$AH$122,,MATCH($C25,Haaziry!$F$122:$AH$122,0)),"L") -> #N/A | H25: {=SUM(COUNTIFS(Haaziry!$A$2:$A$122,""&$N$1,INDEX(Haaziry!$F$2:$AH$122,,MATCH($C25,Haaziry!$F$122:$AH$122,0)),{"O","R"}))} -> #N/A | I25: =COUNTIFS(Haaziry!$A$2:$A$122,""&$N$1,INDEX(Haaziry!$F$2:$AH$122,,MATCH($C25,Haaziry!$F$122:$AH$122,0)),"-") -> #N/A | J25: =COUNTIFS(Haaziry!$A$2:$A$122,""&$N$1,INDEX(Haaziry!$F$2:$AH$122,,MATCH($C25,Haaziry!$F$122:$AH$122,0)),"@") -> #N/A | K25: =COUNTIFS(Haaziry!$A$2:$A$122,""&$N$1,INDEX(Haaziry!$F$2:$AH$122,,MATCH($C25,Haaziry!$F$122:$AH$122,0)),"P") -> #N/A
A26: =_xlfn.AGGREGATE(3, 5, B$6:B25) -> 12 | B26: {=INDEX(Haaziry!F$121:AH$121,ROWS(B$6:B26))} -> 0 | C26: {=INDEX(Haaziry!F$122:AH$122,ROWS(C$6:C26))} -> 0 | E26: {=SUM(COUNTIFS(Haaziry!$A$2:$A$122,""&$N$1,INDEX(Haaziry!$F$2:$AH$122,,MATCH($C26,Haaziry!$F$122:$AH$122,0)),{"© ","N"}))} -> #N/A | F26: =COUNTIFS(Haaziry!$A$2:$A$122,""&$N$1,INDEX(Haaziry!$F$2:$AH$122,,MATCH($C26,Haaziry!$F$122:$AH$122,0)),"S") -> #N/A | G26: =COUNTIFS(Haaziry!$A$2:$A$122,""&$N$1,INDEX(Haaziry!$F$2:$AH$122,,MATCH($C26,Haaziry!$F$122:$AH$122,0)),"L") -> #N/A | H26: {=SUM(COUNTIFS(Haaziry!$A$2:$A$122,""&$N$1,INDEX(Haaziry!$F$2:$AH$122,,MATCH($C26,Haaziry!$F$122:$AH$122,0)),{"O","R"}))} -> #N/A | I26: =COUNTIFS(Haaziry!$A$2:$A$122,""&$N$1,INDEX(Haaziry!$F$2:$AH$122,,MATCH($C26,Haaziry!$F$122:$AH$122,0)),"-") -> #N/A | J26: =COUNTIFS(Haaziry!$A$2:$A$122,""&$N$1,INDEX(Haaziry!$F$2:$AH$122,,MATCH($C26,Haaziry!$F$122:$AH$122,0)),"@") -> #N/A | K26: =COUNTIFS(Haaziry!$A$2:$A$122,""&$N$1,INDEX(Haaziry!$F$2:$AH$122,,MATCH($C26,Haaziry!$F$122:$AH$122,0)),"P") -> #N/A
A27: =_xlfn.AGGREGATE(3, 5, B$6:B26) -> 12 | B27: {=INDEX(Haaziry!F$121:AH$121,ROWS(B$6:B27))} -> 0 | C27: {=INDEX(Haaziry!F$122:AH$122,ROWS(C$6:C27))} -> 0 | E27: {=SUM(COUNTIFS(Haaziry!$A$2:$A$122,""&$N$1,INDEX(Haaziry!$F$2:$AH$122,,MATCH($C27,Haaziry!$F$122:$AH$122,0)),{"© ","N"}))} -> #N/A | F27: =COUNTIFS(Haaziry!$A$2:$A$122,""&$N$1,INDEX(Haaziry!$F$2:$AH$122,,MATCH($C27,Haaziry!$F$122:$AH$122,0)),"S") -> #N/A | G27: =COUNTIFS(Haaziry!$A$2:$A$122,""&$N$1,INDEX(Haaziry!$F$2:$AH$122,,MATCH($C27,Haaziry!$F$122:$AH$122,0)),"L") -> #N/A | H27: {=SUM(COUNTIFS(Haaziry!$A$2:$A$122,""&$N$1,INDEX(Haaziry!$F$2:$AH$122,,MATCH($C27,Haaziry!$F$122:$AH$122,0)),{"O","R"}))} -> #N/A | I27: =COUNTIFS(Haaziry!$A$2:$A$122,""&$N$1,INDEX(Haaziry!$F$2:$AH$122,,MATCH($C27,Haaziry!$F$122:$AH$122,0)),"-") -> #N/A | J27: =COUNTIFS(Haaziry!$A$2:$A$122,""&$N$1,INDEX(Haaziry!$F$2:$AH$122,,MATCH($C27,Haaziry!$F$122:$AH$122,0)),"@") -> #N/A | K27: =COUNTIFS(Haaziry!$A$2:$A$122,""&$N$1,INDEX(Haaziry!$F$2:$AH$122,,MATCH($C27,Haaziry!$F$122:$AH$122,0)),"P") -> #N/A
A28: =_xlfn.AGGREGATE(3, 5, B$6:B27) -> 12 | B28: {=INDEX(Haaziry!F$121:AH$121,ROWS(B$6:B28))} -> 0 | C28: {=INDEX(Haaziry!F$122:AH$122,ROWS(C$6:C28))} -> 0 | E28: {=SUM(COUNTIFS(Haaziry!$A$2:$A$122,""&$N$1,INDEX(Haaziry!$F$2:$AH$122,,MATCH($C28,Haaziry!$F$122:$AH$122,0)),{"© ","N"}))} -> #N/A | F28: =COUNTIFS(Haaziry!$A$2:$A$122,""&$N$1,INDEX(Haaziry!$F$2:$AH$122,,MATCH($C28,Haaziry!$F$122:$AH$122,0)),"S") -> #N/A | G28: =COUNTIFS(Haaziry!$A$2:$A$122,""&$N$1,INDEX(Haaziry!$F$2:$AH$122,,MATCH($C28,Haaziry!$F$122:$AH$122,0)),"L") -> #N/A | H28: {=SUM(COUNTIFS(Haaziry!$A$2:$A$122,""&$N$1,INDEX(Haaziry!$F$2:$AH$122,,MATCH($C28,Haaziry!$F$122:$AH$122,0)),{"O","R"}))} -> #N/A | I28: =COUNTIFS(Haaziry!$A$2:$A$122,""&$N$1,INDEX(Haaziry!$F$2:$AH$122,,MATCH($C28,Haaziry!$F$122:$AH$122,0)),"-") -> #N/A | J28: =COUNTIFS(Haaziry!$A$2:$A$122,""&$N$1,INDEX(Haaziry!$F$2:$AH$122,,MATCH($C28,Haaziry!$F$122:$AH$122,0)),"@") -> #N/A | K28: =COUNTIFS(Haaziry!$A$2:$A$122,""&$N$1,INDEX(Haaziry!$F$2:$AH$122,,MATCH($C28,Haaziry!$F$122:$AH$122,0)),"P") -> #N/A
A29: =_xlfn.AGGREGATE(3, 5, B$6:B28) -> 12 | B29: {=INDEX(Haaziry!F$121:AH$121,ROWS(B$6:B29))} -> 0 | C29: {=INDEX(Haaziry!F$122:AH$122,ROWS(C$6:C29))} -> 0 | E29: {=SUM(COUNTIFS(Haaziry!$A$2:$A$122,""&$N$1,INDEX(Haaziry!$F$2:$AH$122,,MATCH($C29,Haaziry!$F$122:$AH$122,0)),{"© ","N"}))} -> #N/A | F29: =COUNTIFS(Haaziry!$A$2:$A$122,""&$N$1,INDEX(Haaziry!$F$2:$AH$122,,MATCH($C29,Haaziry!$F$122:$AH$122,0)),"S") -> #N/A | G29: =COUNTIFS(Haaziry!$A$2:$A$122,""&$N$1,INDEX(Haaziry!$F$2:$AH$122,,MATCH($C29,Haaziry!$F$122:$AH$122,0)),"L") -> #N/A | H29: {=SUM(COUNTIFS(Haaziry!$A$2:$A$122,""&$N$1,INDEX(Haaziry!$F$2:$AH$122,,MATCH($C29,Haaziry!$F$122:$AH$122,0)),{"O","R"}))} -> #N/A | I29: =COUNTIFS(Haaziry!$A$2:$A$122,""&$N$1,INDEX(Haaziry!$F$2:$AH$122,,MATCH($C29,Haaziry!$F$122:$AH$122,0)),"-") -> #N/A | J29: =COUNTIFS(Haaziry!$A$2:$A$122,""&$N$1,INDEX(Haaziry!$F$2:$AH$122,,MATCH($C29,Haaziry!$F$122:$AH$122,0)),"@") -> #N/A | K29: =COUNTIFS(Haaziry!$A$2:$A$122,""&$N$1,INDEX(Haaziry!$F$2:$AH$122,,MATCH($C29,Haaziry!$F$122:$AH$122,0)),"P") -> #N/A
A30: =_xlfn.AGGREGATE(3, 5, B$6:B29) -> 12 | B30: {=INDEX(Haaziry!F$121:AH$121,ROWS(B$6:B30))} -> 0 | C30: {=INDEX(Haaziry!F$122:AH$122,ROWS(C$6:C30))} -> 0 | E30: {=SUM(COUNTIFS(Haaziry!$A$2:$A$122,""&$N$1,INDEX(Haaziry!$F$2:$AH$122,,MATCH($C30,Haaziry!$F$122:$AH$122,0)),{"© ","N"}))} -> #N/A | F30: =COUNTIFS(Haaziry!$A$2:$A$122,""&$N$1,INDEX(Haaziry!$F$2:$AH$122,,MATCH($C30,Haaziry!$F$122:$AH$122,0)),"S") -> #N/A | G30: =COUNTIFS(Haaziry!$A$2:$A$122,""&$N$1,INDEX(Haaziry!$F$2:$AH$122,,MATCH($C30,Haaziry!$F$122:$AH$122,0)),"L") -> #N/A | H30: {=SUM(COUNTIFS(Haaziry!$A$2:$A$122,""&$N$1,INDEX(Haaziry!$F$2:$AH$122,,MATCH($C30,Haaziry!$F$122:$AH$122,0)),{"O","R"}))} -> #N/A | I30: =COUNTIFS(Haaziry!$A$2:$A$122,""&$N$1,INDEX(Haaziry!$F$2:$AH$122,,MATCH($C30,Haaziry!$F$122:$AH$122,0)),"-") -> #N/A | J30: =COUNTIFS(Haaziry!$A$2:$A$122,""&$N$1,INDEX(Haaziry!$F$2:$AH$122,,MATCH($C30,Haaziry!$F$122:$AH$122,0)),"@") -> #N/A | K30: =COUNTIFS(Haaziry!$A$2:$A$122,""&$N$1,INDEX(Haaziry!$F$2:$AH$122,,MATCH($C30,Haaziry!$F$122:$AH$122,0)),"P") -> #N/A
A31: =_xlfn.AGGREGATE(3, 5, B$6:B30) -> 12 | B31: {=INDEX(Haaziry!F$121:AH$121,ROWS(B$6:B31))} -> 0 | C31: {=INDEX(Haaziry!F$122:AH$122,ROWS(C$6:C31))} -> 0 | E31: {=SUM(COUNTIFS(Haaziry!$A$2:$A$122,""&$N$1,INDEX(Haaziry!$F$2:$AH$122,,MATCH($C31,Haaziry!$F$122:$AH$122,0)),{"© ","N"}))} -> #N/A | F31: =COUNTIFS(Haaziry!$A$2:$A$122,""&$N$1,INDEX(Haaziry!$F$2:$AH$122,,MATCH($C31,Haaziry!$F$122:$AH$122,0)),"S") -> #N/A | G31: =COUNTIFS(Haaziry!$A$2:$A$122,""&$N$1,INDEX(Haaziry!$F$2:$AH$122,,MATCH($C31,Haaziry!$F$122:$AH$122,0)),"L") -> #N/A | H31: {=SUM(COUNTIFS(Haaziry!$A$2:$A$122,""&$N$1,INDEX(Haaziry!$F$2:$AH$122,,MATCH($C31,Haaziry!$F$122:$AH$122,0)),{"O","R"}))} -> #N/A | I31: =COUNTIFS(Haaziry!$A$2:$A$122,""&$N$1,INDEX(Haaziry!$F$2:$AH$122,,MATCH($C31,Haaziry!$F$122:$AH$122,0)),"-") -> #N/A | J31: =COUNTIFS(Haaziry!$A$2:$A$122,""&$N$1,INDEX(Haaziry!$F$2:$AH$122,,MATCH($C31,Haaziry!$F$122:$AH$122,0)),"@") -> #N/A | K31: =COUNTIFS(Haaziry!$A$2:$A$122,""&$N$1,INDEX(Haaziry!$F$2:$AH$122,,MATCH($C31,Haaziry!$F$122:$AH$122,0)),"P") -> #N/A
... A33: =_xlfn.AGGREGATE(3, 5, B$6:B32) -> 12 | B33: {=INDEX(Haaziry!F$121:AH$121,ROWS(B$6:B33))} -> 0 | C33: {=INDEX(Haaziry!F$122:AH$122,ROWS(C$6:C33))} -> 0 | E33: {=SUM(COUNTIFS(Haaziry!$A$2:$A$122,""&$N$1,INDEX(Haaziry!$F$2:$AH$122,,MATCH($C33,Haaziry!$F$122:$AH$122,0)),{"© ","N"}))} -> #N/A | F33: =COUNTIFS(Haaziry!$A$2:$A$122,""&$N$1,INDEX(Haaziry!$F$2:$AH$122,,MATCH($C33,Haaziry!$F$122:$AH$122,0)),"S") -> #N/A | G33: =COUNTIFS(Haaziry!$A$2:$A$122,""&$N$1,INDEX(Haaziry!$F$2:$AH$122,,MATCH($C33,Haaziry!$F$122:$AH$122,0)),"L") -> #N/A | H33: {=SUM(COUNTIFS(Haaziry!$A$2:$A$122,""&$N$1,INDEX(Haaziry!$F$2:$AH$122,,MATCH($C33,Haaziry!$F$122:$AH$122,0)),{"O","R"}))} -> #N/A | I33: =COUNTIFS(Haaziry!$A$2:$A$122,""&$N$1,INDEX(Haaziry!$F$2:$AH$122,,MATCH($C33,Haaziry!$F$122:$AH$122,0)),"-") -> #N/A | J33: =COUNTIFS(Haaziry!$A$2:$A$122,""&$N$1,INDEX(Haaziry!$F$2:$AH$122,,MATCH($C33,Haaziry!$F$122:$AH$122,0)),"@") -> #N/A | K33: =COUNTIFS(Haaziry!$A$2:$A$122,""&$N$1,INDEX(Haaziry!$F$2:$AH$122,,MATCH($C33,Haaziry!$F$122:$AH$122,0)),"P") -> #N/A
B34: ޖުމްލަ | L34: =_xlfn.AGGREGATE(9, 5, L6:L33) -> 11 | M34: =_xlfn.AGGREGATE(9, 5, M6:M33) -> 10 | P34: Don’t change the formula, hidden rows will be excluded from total count
A35: ތައްޔާރުކުރީ: މިލްޙާ ޖަމާލް | G35: ޗެކް ކުރީ: އަސްމާ ސަލީމް
A36: ތާރީޚް: 02 އޯގަސްޓް 2026 | G36: ތާރީޚް: 02 އޯގަސްޓް 2026
A37: ސޮއި: | G37: ސޮއި:

Sheet Haaziry
A1: ލާމަރުކަޒީ ކޮމިޓީ LM | B1: 20 ވަނަ މަޖިލީހުގައި ބޭއްވުނު ލާމަރުކަޒީ ކޮމިޓީގެ ބައްދަލުވުންތަކަށް އެ ކޮމިޓީގެ މެންބަރުން ވަޑައިގެންނެވި ނިސްބަތް އެނގިވަޑައިގަންނަވާނެ ހާޒިރީގެ ތަފްޞީލު
D2: 2029
D3: 20 ވަނަ މަޖިލީހުގެ ދައުރު ނިމުން (27 މޭ 2029)
F4: 0
F5: 0
F6: 0
F7: 0
F8: 0
D9: 2029 ވަނަ އަހަރުގެ ފުރަތަމަ ދައުރު ނިމުން (15 މޭ 2029)
F10: 0
F11: 0
F12: 0
D13: 2029 ވަނަ އަހަރުގެ ފުރަތަމަ ދައުރު ފެށުން (1 ފެބްރުވަރީ 2029)
E14: 2029
D15: 2028 ވަނަ އަހަރުގެ ތިންވަނަ ދައުރު ނިމުން (30 ނޮވެންބަރު 2028)
F16: 0
F17: 0
F18: 0
D19: 2028 ވަނަ އަހަރުގެ ތިންވަނަ ދައުރު ފެށުން (1 އޮކްޓޫބަރ 2028)
D20: 2028 ވަނަ އަހަރުގެ ދެވަނަ ދައުރު ނިމުން (15 އޮގަސްޓު 2028)
F21: 0
F22: 0
D23: 2028 ވަނަ އަހަރުގެ ދެވަނަ ދައުރު ފެށުން (1 ޖޫން 2028)
D24: 2028 ވަނަ އަހަރުގެ ފުރަތަމަ ދައުރު ނިމުން (15 މޭ 2028)
F25: 0
F26: 0
F27: 0
D28: 2028 ވަނަ އަހަރުގެ ފުރަތަމަ ދައުރު ފެށުން (1 ފެބްރުވަރީ 2028)
E29: 2028
D30: 2027 ވަނަ އަހަރުގެ ތިންވަނަ ދައުރު ނިމުން (30 ނޮވެންބަރު 2027)
F31: 0
F32: 0
F33: 0
D34: 2027 ވަނަ އަހަރުގެ ތިންވަނަ ދައުރު ފެށުން (1 އޮކްޓޫބަރ 2027)
D35: 2027 ވަނަ އަހަރުގެ ދެވަނަ ދައުރު ނިމުން (15 އޮގަސްޓު 2027)
F36: 0
F37: 0
D38: 2027 ވަނަ އަހަރުގެ ދެވަނަ ދައުރު ފެށުން (1 ޖޫން 2027)
D39: 2027 ވަނަ އަހަރުގެ ފުރަތަމަ ދައުރު ނިމުން (15 މޭ 2027)
F40: 0
F41: 0
F42: 0
D43: 2027 ވަނަ އަހަރުގެ ފުރަތަމަ ދައުރު ފެށުން (1 ފެބްރުވަރީ 2027)
E44: 2027
D45: 2026 ވަނަ އަހަރުގެ ތިންވަނަ ދައުރު ނިމުން (30 ނޮވެންބަރު 2026)
F46: 0
F47: 0
F48: 0
D49: 2026 ވަނަ އަހަރުގެ ތިންވަނަ ދައުރު ފެށުން (1 އޮކްޓޫބަރ 2026)
A50: 2026 ވަނަ އަހަރުގެ ދެވަނަ ދައުރު ނިމުން (15 އޮގަސްޓު 2026)
A51: 2026 August | B51: 46258 | C51: 14 | D51: 0.38541667 | E51: 0.40138889 | F51: 0.015972222 | G51: P | H51: P | I51: P | J51: P | K51: P | L51: - | M51: - | N51: P | O51: N | P51: P | Q51: N | R51: P | S51: P
A52: 2026 August | B52: 46250 | C52: 13 | D52: 0.51458333 | E52: 0.55763889 | F52: 0.043055556 | G52: P | H52: P | I52: P | J52: P | K52: P | L52: - | M52: P | N52: P | O52: N | P52: P | Q52: N | R52: P | S52: P
A53: 2026 August | B53: 46251 | C53: 12 | D53: 0.50833333 | E53: 0.51180556 | F53: 0.0034722222 | G53: P | H53: P | I53: - | J53: P | K53: P | L53: P | M53: P | N53: P | O53: N | P53: P | Q53: N | R53: P | S53: P
A54: 2026 August | B54: 46250 | C54: 11 | D54: 0.46111111 | E54: 0.46736111 | F54: 0.00625 | G54: P | H54: P | I54: P | J54: P | K54: P | L54: P | M54: P | N54: P | O54: N | P54: P | Q54: N | R54: P | S54: P
A55: 2026 August | B55: 46245 | C55: 10 | D55: 0.46666667 | E55: 0.47638889 | F55: 0.0097222222 | G55: P | H55: P | I55: P | J55: - | K55: P | L55: P | M55: P | N55: P | O55: N | P55: P | Q55: P | R55: P | S55: N
A56: 2026 July | B56: 46218 | C56: 9 | D56: 0.44166667 | E56: 0.44791667 | F56: 0.00625 | G56: P | H56: P | I56: P | J56: P | K56: P | L56: S | M56: P | N56: P | O56: N | P56: P | Q56: P | R56: P | S56: N
A57: 2026 June | B57: 46188 | C57: 8 | D57: 0.47847222 | E57: 0.49861111 | F57: 0.020138889 | G57: P | H57: P | I57: P | J57: P | K57: P | L57: P | M57: - | N57: P | O57: O | P57: P | Q57: N | R57: P | S57: N
A58: 2026 ވަނަ އަހަރުގެ ދެވަނަ ދައުރު ފެށުން (1 ޖޫން 2026)
A59: 2026 ވަނަ އަހަރުގެ ފުރަތަމަ ދައުރު ނިމުން (15 މޭ 2026)
A60: 2026 May | B60: 46155 | C60: 7 | D60: 0.94513889 | E60: 0.94930556 | F60: 0.0041666667 | G60: P | H60: P | I60: P | J60: S | K60: P | L60: P | M60: P | N60: P | O60: - | P60: P | Q60: N | R60: P | S60: N
A61: 2026 May | B61: 46155 | C61: 6 | D61: 0.71041667 | E61: 0.75 | F61: 0.039583333 | G61: P | H61: P | I61: P | J61: S | K61: P | L61: P | M61: P | N61: P | O61: P | P61: P | Q61: N | R61: P | S61: N
A62: 2026 May | B62: 46155 | C62: 5 | D62: 0.44861111 | E62: 0.46944444 | F62: 0.020833333 | G62: P | H62: P | I62: P | J62: S | K62: P | L62: - | M62: P | N62: P | O62: P | P62: P | Q62: N | R62: P | S62: N
A63: 2026 May | B63: 46154 | C63: 4 | D63: 0.86111111 | E63: 0.86805556 | F63: 0.0069444444 | G63: P | H63: P | I63: P | J63: P | K63: P | L63: P | M63: P | N63: P | O63: P | P63: P | Q63: N | R63: P | S63: N
A64: 2026 May | B64: 46153 | C64: 3 | D64: 0.44444444 | E64: 0.46111111 | F64: 0.016666667 | G64: P | H64: P | I64: P | J64: P | K64: P | L64: P | M64: P | N64: P | O64: P | P64: P | Q64: N | R64: P | S64: N
A65: 2026 April | B65: 46127 | C65: 2 | D65: 0.42708333 | E65: 0.43125 | F65: 0.0041666667 | G65: P | H65: P | I65: P | J65: P | K65: P | L65: P | M65: O | N65: P | O65: P | P65: P | Q65: N | R65: P | S65: N
A66: 2026 March | B66: 46089 | C66: 1 | D66: 0.49305556 | E66: 0.49583333 | F66: 0.0027777778 | G66: P | H66: P | I66: P | J66: O | K66: O | L66: P | M66: P | N66: P | O66: - | P66: P | Q66: N | R66: - | S66: N
A67: 2026 ވަނަ އަހަރުގެ ފުރަތަމަ ދައުރު ފެށުން (1 ފެބްރުވަރީ 2026)
A68: 2026
A69: 2025 ވަނަ އަހަރުގެ ތިންވަނަ ދައުރު ނިމުން (30 ނޮވެންބަރު 2025)
A70: 2025 November | B70: 26/11/2025 | C70: 20 | D70: 0.51458333 | E70: 0.53472222 | F70: 0.020138889 | G70: P | H70: P | I70: P | J70: P | K70: P | L70: - | M70: P | N70: P | O70: P | P70: P | Q70: N | R70: P | S70: N
A71: 2025 October | B71: 29/10/2025 | C71: 19 | D71: 0.42291667 | E71: 0.44722222 | F71: 0.024305556 | G71: P | H71: P | I71: P | J71: - | K71: P | L71: P | M71: P | N71: P | O71: P | P71: P | Q71: N | R71: O | S71: N
A72: 2025 October | B72: 45944 | C72: 18 | D72: 0.42569444 | E72: 0.44513889 | F72: 0.019444444 | G72: P | H72: P | I72: - | J72: P | K72: O | L72: - | M72: P | N72: O | O72: P | P72: P | Q72: N | R72: P | S72: N
A73: 2025 ވަނަ އަހަރުގެ ތިންވަނަ ދައުރު ފެށުން (1 އޮކްޓޫބަރ 2025)
A74: 2025 ވަނަ އަހަރުގެ ދެވަނަ ދައުރު ނިމުން (15 އޮގަސްޓު 2025)
A75: 2025 August | B75: 45874 | C75: 17 | D75: 0.89097222 | E75: 0.90277778 | F75: 0.011805556 | G75: P | H75: P | I75: P | J75: O | K75: P | L75: S | M75: S | N75: P | O75: P | P75: P | Q75: N | R75: O | S75: N
A76: 2025 August | B76: 45874 | C76: 16 | D76: 0.63194444 | E76: 0.66111111 | F76: 0.029166667 | G76: P | H76: P | I76: P | J76: O | K76: P | L76: S | M76: S | N76: P | O76: P | P76: P | Q76: N | R76: O | S76: N
A77: 2025 August | B77: 45873 | C77: 15 | D77: 0.72430556 | E77: 0.72638889 | F77: 0.0020833333 | G77: P | H77: P | I77: P | J77: - | K77: P | L77: S | M77: - | N77: P | O77: P | P77: P | Q77: N | R77: O | S77: N
A78: 2025 July | B78: 45846 | C78: 14 | D78: 0.46527778 | E78: 0.49444444 | F78: 0.029166667 | G78: P | H78: P | I78: P | J78: P | K78: P | L78: P | M78: S | N78: P | O78: P | P78: P | Q78: N | R78: P | S78: N
A79: 2025 July | B79: 45845 | C79: 13 | D79: 0.48194444 | E79: 0.53402778 | F79: 0.052083333 | G79: P | H79: P | I79: P | J79: P | K79: P | L79: P | M79: S | N79: P | O79: P | P79: P | Q79: N | R79: P | S79: N
A80: 2025 June | B80: 45831 | C80: 12 | D80: 0.48402778 | E80: 0.49305556 | F80: 0.0090277778 | G80: S | H80: P | I80: P | J80: - | K80: P | L80: P | M80: P | N80: P | O80: P | P80: P | Q80: N | R80: P | S80: N
A81: 2025 ވަނަ އަހަރުގެ ދެވަނަ ދައުރު ފެށުން (1 ޖޫން 2025)
A82: 2025 ވަނަ އަހަރުގެ ފުރަތަމަ ދައުރު ނިމުން (15 މޭ 2025)
A83: 2025 May | B83: 45792 | C83: 11 | D83: 0.52777778 | E83: 0.54861111 | F83: 0.020833333 | G83: P | H83: P | I83: O | J83: P | K83: P | L83: P | M83: P | N83: P | O83: P | P83: P | Q83: N | R83: P | S83: N
A84: 2025 May | B84: 45792 | C84: 10 | D84: 0.044444444 | E84: 0.052083333 | F84: 0.0076388889 | G84: P | H84: P | I84: O | J84: P | K84: S | L84: P | M84: P | N84: P | O84: P | P84: - | Q84: N | R84: S | S84: N
A85: 2025 May | B85: 45790 | C85: 9 | D85: 0.52291667 | E85: 0.56041667 | F85: 0.0375 | G85: P | H85: P | I85: P | J85: P | K85: P | L85: P | M85: S | N85: P | O85: P | P85: S | Q85: N | R85: P | S85: N
A86: 2025 May | B86: 45789 | C86: 8 | D86: 0.48194444 | E86: 0.51805556 | F86: 0.036111111 | G86: P | H86: P | I86: P | J86: P | K86: P | L86: P | M86: S | N86: P | O86: P | P86: P | Q86: N | R86: P | S86: N
A87: 2025 May | B87: 45784 | C87: 7 | D87: 0.47916667 | E87: 0.52430556 | F87: 0.045138889 | G87: P | H87: P | I87: P | J87: P | K87: P | L87: - | M87: S | N87: P | O87: P | P87: @ | Q87: N | R87: P | S87: N
A88: 2025 April | B88: 45777 | C88: 6 | D88: 0.46666667 | E88: 0.475 | F88: 0.0083333333 | G88: P | H88: P | I88: P | J88: P | K88: P | L88: S | M88: P | N88: @ | O88: P | P88: P | Q88: N | R88: P | S88: N
A89: 2025 April | B89: 45769 | C89: 5 | D89: 0.47083333 | E89: 0.50069444 | F89: 0.029861111 | G89: P | H89: P | I89: P | J89: - | K89: P | L89: P | M89: P | N89: P | O89: P | P89: P | Q89: N | R89: P | S89: N
A90: 2025 April | B90: 45763 | C90: 4 | D90: 0.425 | E90: 0.45208333 | F90: 0.027083333 | G90: P | H90: P | I90: P | J90: P | K90: P | L90: P | M90: P | N90: P | O90: P | P90: P | Q90: N | R90: P | S90: N
A91: 2025 March | B91: 45726 | C91: 3 | D91: 0.46458333 | E91: 0.47986111 | F91: 0.015277778 | G91: P | H91: P | I91: P | J91: P | K91: P | L91: S | M91: P | N91: P | O91: - | P91: P | Q91: N | R91: O | S91: N
A92: 2025 February | B92: 45704 | C92: 2 | D92: 0.54930556 | E92: 0.57916667 | F92: 0.029861111 | G92: P | H92: P | I92: P | J92: P | K92: P | L92: - | M92: P | N92: P | O92: - | P92: P | Q92: N | R92: P | S92: N
A93: 2025 February | B93: 45700 | C93: 1 | D93: 0.46180556 | E93: 0.47013889 | F93: 0.0083333333 | G93: O | H93: P | I93: P | J93: P | K93: P | L93: P | M93: S | N93: P | O93: O | P93: P | Q93: N | R93: P | S93: N
A94: 2025 ވަނަ އަހަރުގެ ފުރަތަމަ ދައުރު ފެށުން (1 ފެބްރުވަރީ 2025)
A95: 2025
A96: 2024 ވަނަ އަހަރުގެ ތިންވަނަ ދައުރު ނިމުން (15 ޑިސެންބަރު 2024)
A97: 2024 December | B97: 45638 | C97: 20 | D97: 0.47013889 | E97: 0.48958333 | F97: 0.019444444 | G97: P | H97: P | I97: P | J97: P | K97: P | L97: P | M97: S | N97: P | O97: @ | P97: P | Q97: N | R97: - | S97: N
A98: 2024 December | B98: 45363 | C98: 19 | D98: 0.42152778 | E98: 0.44097222 | F98: 0.019444444 | G98: P | H98: P | I98: P | J98: P | K98: P | L98: P | M98: P | N98: P | O98: - | P98: P | Q98: N | R98: P | S98: N
A99: 2024 November | B99: 45608 | C99: 18 | D99: 0.42569444 | E99: 0.44722222 | F99: 0.021527778 | G99: P | H99: P | I99: P | J99: P | K99: O | L99: - | M99: P | N99: P | O99: @ | P99: P | Q99: N | R99: P | S99: N
A100: 2024 November | B100: 45601 | C100: 17 | D100: 0.42291667 | E100: 0.45555556 | F100: 0.032638889 | G100: P | H100: P | I100: P | J100: @ | K100: P | L100: P | M100: O | N100: P | O100: P | P100: P | Q100: N | R100: @ | S100: N
...

Sheet List of Comitys n Abbreviation
C1: ކޮމިޓީ ތަކުގެ ޙާޒިރީ ރިޕޯޓް -ޖޫން 2024
A2: ކޯޑް | B2: އެޓޭޗްކުރެވިފައި | C2: ތަފްޞީލް
A3: AM | C3: ޢާންމު ކޮމިޓީ
A4: PT | C4: ޕެޓިޝަން ކޮމިޓީ
A5: IS | C5: އިމްތިޔާޒު އަދި ސުލޫކު ކޮމިޓީ
A6: GV | C6: ގަވާއިދު ކޮމިޓީ
A7: ML | C7: މާލިއްޔަތު ކޮމިޓީ
A8: IQ | C8: އިޤްތިޞާދީ ކޮމިޓީ
A9: IJ | C9: އިޖްތިމާޢީ ކޮމިޓީ
A10: SKH | C10: ސަލާމަތީ ޚިދުމަތްތަކާބެހޭ ކޮމިޓީ (ޤާނޫނުއަސާސީގެ 241 ވަނަ މާއްދާގެ ދަށުން އެކުލަވާލެވުނު)
A11: MM | C11: މިނިވަން މުޢައްސަސާތަކުގެ ކޮމިޓީ
A12: SM | C12: ސަރުކާރުގެ މަސްޢޫލިއްޔަތު އަދާކުރާ މިންވަރު ބަލާ ކޮމިޓީ
A13: GT | C13: ޤައުމީ ތަރައްޤީއާއި ތަރިކައިގެ ކޮމިޓީ
A14: KG | C14: ޚާރިޖީ ގުޅުންތަކުގެ ކޮމިޓީ
... A21: GD | C21: ގެދޮރުވެރިކަމުގެ ކޮމިޓީ
A22: VC-1
A23: VC-2
A25: S | B25: ސަލާމް
A26: L | B26: ޗުއްޓީ
A27: O | B27: ރަސްމީ
A28: Ab | B28: ޙާޒިރުނުވޭ
A29: Sc | B29: އެހެން ކޮމިޓީއެއްގައި
A30: P | B30: ޙާޒިރުވި
A31: ©+N | B31: ވަޑައިގަންނަވަން ނުޖެހޭ ޖުމުލަ ބައްދަލުވުން

Sheet MP List n Code
A1: މެންބަރ-ކޯޑް | B1: މެންބަރުންގެ ނަން
A2: 1 | B2: ހުޅުމާލެ އުތުރު ދާއިރާގެ މެންބަރު ޙުސައިން ޝަރީފު
A3: 2 | B3: ހުޅުމާލެ މެދު ދާއިރާގެ މެންބަރު ޢަބްދުﷲ ޝަޛީމް
A4: 3 | B4: ހުޅުމާލެ ދެކުނު ދާއިރާގެ މެންބަރު ޑރ. އަޙްމަދު ޝަމްހީދު
A5: 4 | B5: ހެންވޭރު އުތުރު ދާއިރާގެ މެންބަރު އަޙްމަދު އައިފާން
A6: 5 | B6: މެދުހެންވޭރު ދާއިރާގެ މެންބަރު ޙުސައިން ނާޞިޙް
A7: 6 | B7: ހެންވޭރު ދެކުނު ދާއިރާގެ މެންބަރު ޙުސައިން އިމްރާން ލަޠީފް
A8: 7 | B8: ހެންވޭރު ހުޅަނގު ދާއިރާގެ މެންބަރު ޢަލީ އިބްރާހީމް
A9: 8 | B9: ގަލޮޅު އުތުރު ދާއިރާގެ މެންބަރު މުޙައްމަދު އިބްރާހީމް
A10: 9 | B10: ގަލޮޅު ދެކުނު ދާއިރާގެ މެންބަރު މީކާއީލު އަޙްމަދު ނަސީމް
A11: 10 | B11: މައްޗަންގޮޅި އުތުރު ދާއިރާގެ މެންބަރު އިބްރާހީމް މުޙައްމަދު
A12: 11 | B12: މައްޗަންގޮޅި މެދު ދާއިރާގެ މެންބަރު އަޙްމަދު ޟަމީރު
A13: 12 | B13: މައްޗަންގޮޅި ދެކުނު ދާއިރާގެ މެންބަރު މުޞްޠަފާ ޙުސައިން
... A95: 93 | B95: އައްޑޫމީދޫ ދާއިރާގެ މެންބަރު ޢަބްދުއްރަޙްމާން
